BEGIN:VCALENDAR
VERSION:2.0
PRODID:-//SBC - ECPv6.15.12.2//NONSGML v1.0//EN
CALSCALE:GREGORIAN
METHOD:PUBLISH
X-WR-CALNAME:SBC
X-ORIGINAL-URL:https://strategicbusinessconnect.com
X-WR-CALDESC:Events for SBC
REFRESH-INTERVAL;VALUE=DURATION:PT1H
X-Robots-Tag:noindex
X-PUBLISHED-TTL:PT1H
BEGIN:VTIMEZONE
TZID:Asia/Dubai
BEGIN:STANDARD
TZOFFSETFROM:+0400
TZOFFSETTO:+0400
TZNAME:+04
DTSTART:20250101T000000
END:STANDARD
END:VTIMEZONE
BEGIN:VEVENT
DTSTART;TZID=Asia/Dubai:20260127T130000
DTEND;TZID=Asia/Dubai:20260127T140000
DTSTAMP:20260425T035656
CREATED:20250506T121035Z
LAST-MODIFIED:20260120T225026Z
UID:10000916-1769518800-1769522400@strategicbusinessconnect.com
SUMMARY:SBC International Small Business Zoom
DESCRIPTION:If you are doing business in the UAE across borders and wish to network effectively\, or you are a company looking to build and nurture contacts here in the UAE before you open up\, then feel free to join us. \nDubai\, especially\, is a networking city\, and it’s all about who you know and how well you know them. \nSo “build the roof before it rains” and start finding those key contacts in advance and hit the ground running. \nWith over 24 years of experience in the UAE the sessions host Phil Bedford\, is widely connected and happy to help. \nYou will also be meeting other business owners who are either here already or looking to be\, and hence this is a super productive use of 1 hour. \nYou will get the chance to present your business to the room as well as collect resources that can be of use to you. \nCommon to the energy in the room is helping each other. \nIf\, for any reason\, you can’t make it\, please let me know\, and we can invite you along the following week. \nNote: \n1. Please have your video on unless cultural requirements override this. \n2. “Entry Door “will close 5 minutes after we start so please be early. People who arrive once we have stated will regrettably not given entrance. \n3. Please stay until the end. If you can’t be with us for the whole session\, I would recommend joining us next week. \n4. You will have approximately 2.5 minutes to introduce yourself and your business \n5. Please be stationary and not driving on our calls \nFor more FREE networking you can check below. We have many sessions \nhttps://www.strategicbusinessconnect.com/networking-opportunities \nBy agreeing to join the Zoom call\, you are accepting that you will receive reminders \, communications about the event and other opportunities. \nBook Now
URL:https://strategicbusinessconnect.com/event/sbc-international-small-business-zoom/2026-01-27/
LOCATION:Zoom (Online Event) : Web conferencing details provided upon confirmation.\, United Arab Emirates
CATEGORIES:Networking Opportunities
ATTACH;FMTTYPE=image/png:https://strategicbusinessconnect.com/wp-content/uploads/2025/05/sbc-int.png
END:VEVENT
BEGIN:VEVENT
DTSTART;TZID=Asia/Dubai:20260126T064500
DTEND;TZID=Asia/Dubai:20260126T074500
DTSTAMP:20260425T035656
CREATED:20260120T194101Z
LAST-MODIFIED:20260423T213120Z
UID:10000523-1769409900-1769413500@strategicbusinessconnect.com
SUMMARY:SBC Monday Morning Beach Walk
DESCRIPTION:This is a FREE event which is open to friends and family. \nStart your week with a refreshing walk along the beach track in the company of great people. \nPlease let either of us know by 9pm the night before\, via WhatsApp\, if you intend joining us! This allows us to confirm our attendance and to keep an eye out for you) \nNOTE: we start at the appointed time of 6.30AM. \nThere is a paid parking next to Feels Café. We meet at the cafe\, walk up the beach and back. The 4.8km walk takes approximately 55mins but there is an option to do a shorter 2.4km version if preferred. \nBook Now
URL:https://strategicbusinessconnect.com/event/sbc-monday-morning-beach-walk/2026-01-26/
LOCATION:Feels Cafe\, Nessnas Beach Jumeirah\, Dubai\, United Arab Emirates
CATEGORIES:Networking Opportunities
ATTACH;FMTTYPE=image/png:https://strategicbusinessconnect.com/wp-content/uploads/2026/01/walk-pic.png
END:VEVENT
BEGIN:VEVENT
DTSTART;TZID=Asia/Dubai:20260121T110000
DTEND;TZID=Asia/Dubai:20260121T143000
DTSTAMP:20260425T035656
CREATED:20251219T062934Z
LAST-MODIFIED:20260120T224804Z
UID:10000140-1768993200-1769005800@strategicbusinessconnect.com
SUMMARY:MIXER - SBC Fashion & Arts + SBC Hospitality\, Retail & Logistics Super Connect
DESCRIPTION:Join us for this exciting networking mixer\, which combines SBC Fashion and Arts with SBC Hospitality\, Retail and Logistics —a special opportunity for professionals in these industries to connect\, collaborate\, and inspire one another. \nThis in-person gathering is designed to help you meet everyone on both a personal and professional level\, fostering meaningful relationships in a supportive and productive environment. \nCome and explore exciting partnerships\, exchange ideas\, and discuss potential collaborations while enjoying delicious coffee and light breakfast treats. \nWhether you’re a designer\, supplier or creative entrepreneur\, this event offers the perfect platform to grow your personal and professional network\, spark new opportunities\, and build lasting connections. \nDon’t miss the chance to engage with your peers and take your career to the next level in a friendly\, creative atmosphere! \nBook Now
URL:https://strategicbusinessconnect.com/event/mixer-sbc-fashion-arts-sbc-hospitality-retail-logistics-super-connect-2/
LOCATION:Ciao Bella! Media One Hotel\, Media 1 Tower\, Dubai Media City\,Plot No. 1 - Al Sufouh - Al\, Sufouh 2 - Dubai\, United Arab Emirates
CATEGORIES:Networking Opportunities
ATTACH;FMTTYPE=image/png:https://strategicbusinessconnect.com/wp-content/uploads/2025/12/Hospitality-Connect-LIVE-3.png
END:VEVENT
END:VCALENDAR