BEGIN:VCALENDAR
VERSION:2.0
PRODID:-//SBC - ECPv6.15.12.2//NONSGML v1.0//EN
CALSCALE:GREGORIAN
METHOD:PUBLISH
X-ORIGINAL-URL:https://strategicbusinessconnect.com
X-WR-CALDESC:Events for SBC
REFRESH-INTERVAL;VALUE=DURATION:PT1H
X-Robots-Tag:noindex
X-PUBLISHED-TTL:PT1H
BEGIN:VTIMEZONE
TZID:UTC
BEGIN:STANDARD
TZOFFSETFROM:+0000
TZOFFSETTO:+0000
TZNAME:UTC
DTSTART:20270101T000000
END:STANDARD
END:VTIMEZONE
BEGIN:VEVENT
DTSTART;TZID=UTC:20281102T143000
DTEND;TZID=UTC:20281102T173000
DTSTAMP:20260425T171825
CREATED:20260424T015416Z
LAST-MODIFIED:20260424T015416Z
UID:10002358-1856788200-1856799000@strategicbusinessconnect.com
SUMMARY:Enter Event title here
DESCRIPTION:Enter description here \nBook Now
URL:https://strategicbusinessconnect.com/event/enter-event-title-here/2028-11-02/
LOCATION:Belgravia – Neera Members Club – Habtoor City\, Habtoor\, United Arab Emirates
CATEGORIES:Networking Opportunities
ATTACH;FMTTYPE=image/png:https://strategicbusinessconnect.com/wp-content/uploads/2026/04/refereals.png
END:VEVENT
BEGIN:VEVENT
DTSTART;TZID=UTC:20281109T143000
DTEND;TZID=UTC:20281109T173000
DTSTAMP:20260425T171825
CREATED:20260424T015416Z
LAST-MODIFIED:20260424T015416Z
UID:10002359-1857393000-1857403800@strategicbusinessconnect.com
SUMMARY:Enter Event title here
DESCRIPTION:Enter description here \nBook Now
URL:https://strategicbusinessconnect.com/event/enter-event-title-here/2028-11-09/
LOCATION:Belgravia – Neera Members Club – Habtoor City\, Habtoor\, United Arab Emirates
CATEGORIES:Networking Opportunities
ATTACH;FMTTYPE=image/png:https://strategicbusinessconnect.com/wp-content/uploads/2026/04/refereals.png
END:VEVENT
BEGIN:VEVENT
DTSTART;TZID=UTC:20281116T143000
DTEND;TZID=UTC:20281116T173000
DTSTAMP:20260425T171825
CREATED:20260424T015416Z
LAST-MODIFIED:20260424T015416Z
UID:10002360-1857997800-1858008600@strategicbusinessconnect.com
SUMMARY:Enter Event title here
DESCRIPTION:Enter description here \nBook Now
URL:https://strategicbusinessconnect.com/event/enter-event-title-here/2028-11-16/
LOCATION:Belgravia – Neera Members Club – Habtoor City\, Habtoor\, United Arab Emirates
CATEGORIES:Networking Opportunities
ATTACH;FMTTYPE=image/png:https://strategicbusinessconnect.com/wp-content/uploads/2026/04/refereals.png
END:VEVENT
BEGIN:VEVENT
DTSTART;TZID=UTC:20281123T143000
DTEND;TZID=UTC:20281123T173000
DTSTAMP:20260425T171825
CREATED:20260424T015416Z
LAST-MODIFIED:20260424T015416Z
UID:10002361-1858602600-1858613400@strategicbusinessconnect.com
SUMMARY:Enter Event title here
DESCRIPTION:Enter description here \nBook Now
URL:https://strategicbusinessconnect.com/event/enter-event-title-here/2028-11-23/
LOCATION:Belgravia – Neera Members Club – Habtoor City\, Habtoor\, United Arab Emirates
CATEGORIES:Networking Opportunities
ATTACH;FMTTYPE=image/png:https://strategicbusinessconnect.com/wp-content/uploads/2026/04/refereals.png
END:VEVENT
BEGIN:VEVENT
DTSTART;TZID=UTC:20281130T143000
DTEND;TZID=UTC:20281130T173000
DTSTAMP:20260425T171825
CREATED:20260424T015416Z
LAST-MODIFIED:20260424T015416Z
UID:10002362-1859207400-1859218200@strategicbusinessconnect.com
SUMMARY:Enter Event title here
DESCRIPTION:Enter description here \nBook Now
URL:https://strategicbusinessconnect.com/event/enter-event-title-here/2028-11-30/
LOCATION:Belgravia – Neera Members Club – Habtoor City\, Habtoor\, United Arab Emirates
CATEGORIES:Networking Opportunities
ATTACH;FMTTYPE=image/png:https://strategicbusinessconnect.com/wp-content/uploads/2026/04/refereals.png
END:VEVENT
BEGIN:VEVENT
DTSTART;TZID=UTC:20281207T143000
DTEND;TZID=UTC:20281207T173000
DTSTAMP:20260425T171825
CREATED:20260424T015416Z
LAST-MODIFIED:20260424T015416Z
UID:10002363-1859812200-1859823000@strategicbusinessconnect.com
SUMMARY:Enter Event title here
DESCRIPTION:Enter description here \nBook Now
URL:https://strategicbusinessconnect.com/event/enter-event-title-here/2028-12-07/
LOCATION:Belgravia – Neera Members Club – Habtoor City\, Habtoor\, United Arab Emirates
CATEGORIES:Networking Opportunities
ATTACH;FMTTYPE=image/png:https://strategicbusinessconnect.com/wp-content/uploads/2026/04/refereals.png
END:VEVENT
BEGIN:VEVENT
DTSTART;TZID=UTC:20281214T143000
DTEND;TZID=UTC:20281214T173000
DTSTAMP:20260425T171825
CREATED:20260424T015416Z
LAST-MODIFIED:20260424T015416Z
UID:10002364-1860417000-1860427800@strategicbusinessconnect.com
SUMMARY:Enter Event title here
DESCRIPTION:Enter description here \nBook Now
URL:https://strategicbusinessconnect.com/event/enter-event-title-here/2028-12-14/
LOCATION:Belgravia – Neera Members Club – Habtoor City\, Habtoor\, United Arab Emirates
CATEGORIES:Networking Opportunities
ATTACH;FMTTYPE=image/png:https://strategicbusinessconnect.com/wp-content/uploads/2026/04/refereals.png
END:VEVENT
BEGIN:VEVENT
DTSTART;TZID=UTC:20281221T143000
DTEND;TZID=UTC:20281221T173000
DTSTAMP:20260425T171825
CREATED:20260424T015416Z
LAST-MODIFIED:20260424T015416Z
UID:10002365-1861021800-1861032600@strategicbusinessconnect.com
SUMMARY:Enter Event title here
DESCRIPTION:Enter description here \nBook Now
URL:https://strategicbusinessconnect.com/event/enter-event-title-here/2028-12-21/
LOCATION:Belgravia – Neera Members Club – Habtoor City\, Habtoor\, United Arab Emirates
CATEGORIES:Networking Opportunities
ATTACH;FMTTYPE=image/png:https://strategicbusinessconnect.com/wp-content/uploads/2026/04/refereals.png
END:VEVENT
BEGIN:VEVENT
DTSTART;TZID=UTC:20281228T143000
DTEND;TZID=UTC:20281228T173000
DTSTAMP:20260425T171825
CREATED:20260424T015416Z
LAST-MODIFIED:20260424T015416Z
UID:10002366-1861626600-1861637400@strategicbusinessconnect.com
SUMMARY:Enter Event title here
DESCRIPTION:Enter description here \nBook Now
URL:https://strategicbusinessconnect.com/event/enter-event-title-here/2028-12-28/
LOCATION:Belgravia – Neera Members Club – Habtoor City\, Habtoor\, United Arab Emirates
CATEGORIES:Networking Opportunities
ATTACH;FMTTYPE=image/png:https://strategicbusinessconnect.com/wp-content/uploads/2026/04/refereals.png
END:VEVENT
BEGIN:VEVENT
DTSTART;TZID=UTC:20290104T143000
DTEND;TZID=UTC:20290104T173000
DTSTAMP:20260425T171825
CREATED:20260424T015416Z
LAST-MODIFIED:20260424T015416Z
UID:10002367-1862231400-1862242200@strategicbusinessconnect.com
SUMMARY:Enter Event title here
DESCRIPTION:Enter description here \nBook Now
URL:https://strategicbusinessconnect.com/event/enter-event-title-here/2029-01-04/
LOCATION:Belgravia – Neera Members Club – Habtoor City\, Habtoor\, United Arab Emirates
CATEGORIES:Networking Opportunities
ATTACH;FMTTYPE=image/png:https://strategicbusinessconnect.com/wp-content/uploads/2026/04/refereals.png
END:VEVENT
BEGIN:VEVENT
DTSTART;TZID=UTC:20290111T143000
DTEND;TZID=UTC:20290111T173000
DTSTAMP:20260425T171825
CREATED:20260424T015416Z
LAST-MODIFIED:20260424T015416Z
UID:10002368-1862836200-1862847000@strategicbusinessconnect.com
SUMMARY:Enter Event title here
DESCRIPTION:Enter description here \nBook Now
URL:https://strategicbusinessconnect.com/event/enter-event-title-here/2029-01-11/
LOCATION:Belgravia – Neera Members Club – Habtoor City\, Habtoor\, United Arab Emirates
CATEGORIES:Networking Opportunities
ATTACH;FMTTYPE=image/png:https://strategicbusinessconnect.com/wp-content/uploads/2026/04/refereals.png
END:VEVENT
BEGIN:VEVENT
DTSTART;TZID=UTC:20290118T143000
DTEND;TZID=UTC:20290118T173000
DTSTAMP:20260425T171825
CREATED:20260424T015416Z
LAST-MODIFIED:20260424T015416Z
UID:10002369-1863441000-1863451800@strategicbusinessconnect.com
SUMMARY:Enter Event title here
DESCRIPTION:Enter description here \nBook Now
URL:https://strategicbusinessconnect.com/event/enter-event-title-here/2029-01-18/
LOCATION:Belgravia – Neera Members Club – Habtoor City\, Habtoor\, United Arab Emirates
CATEGORIES:Networking Opportunities
ATTACH;FMTTYPE=image/png:https://strategicbusinessconnect.com/wp-content/uploads/2026/04/refereals.png
END:VEVENT
BEGIN:VEVENT
DTSTART;TZID=UTC:20290125T143000
DTEND;TZID=UTC:20290125T173000
DTSTAMP:20260425T171825
CREATED:20260424T015416Z
LAST-MODIFIED:20260424T015416Z
UID:10002370-1864045800-1864056600@strategicbusinessconnect.com
SUMMARY:Enter Event title here
DESCRIPTION:Enter description here \nBook Now
URL:https://strategicbusinessconnect.com/event/enter-event-title-here/2029-01-25/
LOCATION:Belgravia – Neera Members Club – Habtoor City\, Habtoor\, United Arab Emirates
CATEGORIES:Networking Opportunities
ATTACH;FMTTYPE=image/png:https://strategicbusinessconnect.com/wp-content/uploads/2026/04/refereals.png
END:VEVENT
BEGIN:VEVENT
DTSTART;TZID=UTC:20290201T143000
DTEND;TZID=UTC:20290201T173000
DTSTAMP:20260425T171825
CREATED:20260424T015416Z
LAST-MODIFIED:20260424T015416Z
UID:10002371-1864650600-1864661400@strategicbusinessconnect.com
SUMMARY:Enter Event title here
DESCRIPTION:Enter description here \nBook Now
URL:https://strategicbusinessconnect.com/event/enter-event-title-here/2029-02-01/
LOCATION:Belgravia – Neera Members Club – Habtoor City\, Habtoor\, United Arab Emirates
CATEGORIES:Networking Opportunities
ATTACH;FMTTYPE=image/png:https://strategicbusinessconnect.com/wp-content/uploads/2026/04/refereals.png
END:VEVENT
BEGIN:VEVENT
DTSTART;TZID=UTC:20290208T143000
DTEND;TZID=UTC:20290208T173000
DTSTAMP:20260425T171825
CREATED:20260424T015416Z
LAST-MODIFIED:20260424T015416Z
UID:10002372-1865255400-1865266200@strategicbusinessconnect.com
SUMMARY:Enter Event title here
DESCRIPTION:Enter description here \nBook Now
URL:https://strategicbusinessconnect.com/event/enter-event-title-here/2029-02-08/
LOCATION:Belgravia – Neera Members Club – Habtoor City\, Habtoor\, United Arab Emirates
CATEGORIES:Networking Opportunities
ATTACH;FMTTYPE=image/png:https://strategicbusinessconnect.com/wp-content/uploads/2026/04/refereals.png
END:VEVENT
BEGIN:VEVENT
DTSTART;TZID=UTC:20290215T143000
DTEND;TZID=UTC:20290215T173000
DTSTAMP:20260425T171825
CREATED:20260424T015416Z
LAST-MODIFIED:20260424T015416Z
UID:10002373-1865860200-1865871000@strategicbusinessconnect.com
SUMMARY:Enter Event title here
DESCRIPTION:Enter description here \nBook Now
URL:https://strategicbusinessconnect.com/event/enter-event-title-here/2029-02-15/
LOCATION:Belgravia – Neera Members Club – Habtoor City\, Habtoor\, United Arab Emirates
CATEGORIES:Networking Opportunities
ATTACH;FMTTYPE=image/png:https://strategicbusinessconnect.com/wp-content/uploads/2026/04/refereals.png
END:VEVENT
BEGIN:VEVENT
DTSTART;TZID=UTC:20290222T143000
DTEND;TZID=UTC:20290222T173000
DTSTAMP:20260425T171825
CREATED:20260424T015416Z
LAST-MODIFIED:20260424T015416Z
UID:10002374-1866465000-1866475800@strategicbusinessconnect.com
SUMMARY:Enter Event title here
DESCRIPTION:Enter description here \nBook Now
URL:https://strategicbusinessconnect.com/event/enter-event-title-here/2029-02-22/
LOCATION:Belgravia – Neera Members Club – Habtoor City\, Habtoor\, United Arab Emirates
CATEGORIES:Networking Opportunities
ATTACH;FMTTYPE=image/png:https://strategicbusinessconnect.com/wp-content/uploads/2026/04/refereals.png
END:VEVENT
BEGIN:VEVENT
DTSTART;TZID=UTC:20290301T143000
DTEND;TZID=UTC:20290301T173000
DTSTAMP:20260425T171825
CREATED:20260424T015416Z
LAST-MODIFIED:20260424T015416Z
UID:10002375-1867069800-1867080600@strategicbusinessconnect.com
SUMMARY:Enter Event title here
DESCRIPTION:Enter description here \nBook Now
URL:https://strategicbusinessconnect.com/event/enter-event-title-here/2029-03-01/
LOCATION:Belgravia – Neera Members Club – Habtoor City\, Habtoor\, United Arab Emirates
CATEGORIES:Networking Opportunities
ATTACH;FMTTYPE=image/png:https://strategicbusinessconnect.com/wp-content/uploads/2026/04/refereals.png
END:VEVENT
BEGIN:VEVENT
DTSTART;TZID=UTC:20290308T143000
DTEND;TZID=UTC:20290308T173000
DTSTAMP:20260425T171825
CREATED:20260424T015416Z
LAST-MODIFIED:20260424T015416Z
UID:10002376-1867674600-1867685400@strategicbusinessconnect.com
SUMMARY:Enter Event title here
DESCRIPTION:Enter description here \nBook Now
URL:https://strategicbusinessconnect.com/event/enter-event-title-here/2029-03-08/
LOCATION:Belgravia – Neera Members Club – Habtoor City\, Habtoor\, United Arab Emirates
CATEGORIES:Networking Opportunities
ATTACH;FMTTYPE=image/png:https://strategicbusinessconnect.com/wp-content/uploads/2026/04/refereals.png
END:VEVENT
BEGIN:VEVENT
DTSTART;TZID=UTC:20290315T143000
DTEND;TZID=UTC:20290315T173000
DTSTAMP:20260425T171825
CREATED:20260424T015416Z
LAST-MODIFIED:20260424T015416Z
UID:10002377-1868279400-1868290200@strategicbusinessconnect.com
SUMMARY:Enter Event title here
DESCRIPTION:Enter description here \nBook Now
URL:https://strategicbusinessconnect.com/event/enter-event-title-here/2029-03-15/
LOCATION:Belgravia – Neera Members Club – Habtoor City\, Habtoor\, United Arab Emirates
CATEGORIES:Networking Opportunities
ATTACH;FMTTYPE=image/png:https://strategicbusinessconnect.com/wp-content/uploads/2026/04/refereals.png
END:VEVENT
BEGIN:VEVENT
DTSTART;TZID=UTC:20290322T143000
DTEND;TZID=UTC:20290322T173000
DTSTAMP:20260425T171825
CREATED:20260424T015416Z
LAST-MODIFIED:20260424T015416Z
UID:10002378-1868884200-1868895000@strategicbusinessconnect.com
SUMMARY:Enter Event title here
DESCRIPTION:Enter description here \nBook Now
URL:https://strategicbusinessconnect.com/event/enter-event-title-here/2029-03-22/
LOCATION:Belgravia – Neera Members Club – Habtoor City\, Habtoor\, United Arab Emirates
CATEGORIES:Networking Opportunities
ATTACH;FMTTYPE=image/png:https://strategicbusinessconnect.com/wp-content/uploads/2026/04/refereals.png
END:VEVENT
BEGIN:VEVENT
DTSTART;TZID=UTC:20290329T143000
DTEND;TZID=UTC:20290329T173000
DTSTAMP:20260425T171825
CREATED:20260424T015416Z
LAST-MODIFIED:20260424T015416Z
UID:10002379-1869489000-1869499800@strategicbusinessconnect.com
SUMMARY:Enter Event title here
DESCRIPTION:Enter description here \nBook Now
URL:https://strategicbusinessconnect.com/event/enter-event-title-here/2029-03-29/
LOCATION:Belgravia – Neera Members Club – Habtoor City\, Habtoor\, United Arab Emirates
CATEGORIES:Networking Opportunities
ATTACH;FMTTYPE=image/png:https://strategicbusinessconnect.com/wp-content/uploads/2026/04/refereals.png
END:VEVENT
BEGIN:VEVENT
DTSTART;TZID=UTC:20290405T143000
DTEND;TZID=UTC:20290405T173000
DTSTAMP:20260425T171825
CREATED:20260424T015416Z
LAST-MODIFIED:20260424T015416Z
UID:10002380-1870093800-1870104600@strategicbusinessconnect.com
SUMMARY:Enter Event title here
DESCRIPTION:Enter description here \nBook Now
URL:https://strategicbusinessconnect.com/event/enter-event-title-here/2029-04-05/
LOCATION:Belgravia – Neera Members Club – Habtoor City\, Habtoor\, United Arab Emirates
CATEGORIES:Networking Opportunities
ATTACH;FMTTYPE=image/png:https://strategicbusinessconnect.com/wp-content/uploads/2026/04/refereals.png
END:VEVENT
BEGIN:VEVENT
DTSTART;TZID=UTC:20290412T143000
DTEND;TZID=UTC:20290412T173000
DTSTAMP:20260425T171825
CREATED:20260424T015416Z
LAST-MODIFIED:20260424T015416Z
UID:10002381-1870698600-1870709400@strategicbusinessconnect.com
SUMMARY:Enter Event title here
DESCRIPTION:Enter description here \nBook Now
URL:https://strategicbusinessconnect.com/event/enter-event-title-here/2029-04-12/
LOCATION:Belgravia – Neera Members Club – Habtoor City\, Habtoor\, United Arab Emirates
CATEGORIES:Networking Opportunities
ATTACH;FMTTYPE=image/png:https://strategicbusinessconnect.com/wp-content/uploads/2026/04/refereals.png
END:VEVENT
BEGIN:VEVENT
DTSTART;TZID=UTC:20290419T143000
DTEND;TZID=UTC:20290419T173000
DTSTAMP:20260425T171825
CREATED:20260424T015416Z
LAST-MODIFIED:20260424T015416Z
UID:10002382-1871303400-1871314200@strategicbusinessconnect.com
SUMMARY:Enter Event title here
DESCRIPTION:Enter description here \nBook Now
URL:https://strategicbusinessconnect.com/event/enter-event-title-here/2029-04-19/
LOCATION:Belgravia – Neera Members Club – Habtoor City\, Habtoor\, United Arab Emirates
CATEGORIES:Networking Opportunities
ATTACH;FMTTYPE=image/png:https://strategicbusinessconnect.com/wp-content/uploads/2026/04/refereals.png
END:VEVENT
BEGIN:VEVENT
DTSTART;TZID=UTC:20290426T143000
DTEND;TZID=UTC:20290426T173000
DTSTAMP:20260425T171825
CREATED:20260424T015416Z
LAST-MODIFIED:20260424T015416Z
UID:10002383-1871908200-1871919000@strategicbusinessconnect.com
SUMMARY:Enter Event title here
DESCRIPTION:Enter description here \nBook Now
URL:https://strategicbusinessconnect.com/event/enter-event-title-here/2029-04-26/
LOCATION:Belgravia – Neera Members Club – Habtoor City\, Habtoor\, United Arab Emirates
CATEGORIES:Networking Opportunities
ATTACH;FMTTYPE=image/png:https://strategicbusinessconnect.com/wp-content/uploads/2026/04/refereals.png
END:VEVENT
BEGIN:VEVENT
DTSTART;TZID=UTC:20290503T143000
DTEND;TZID=UTC:20290503T173000
DTSTAMP:20260425T171825
CREATED:20260424T015416Z
LAST-MODIFIED:20260424T015416Z
UID:10002384-1872513000-1872523800@strategicbusinessconnect.com
SUMMARY:Enter Event title here
DESCRIPTION:Enter description here \nBook Now
URL:https://strategicbusinessconnect.com/event/enter-event-title-here/2029-05-03/
LOCATION:Belgravia – Neera Members Club – Habtoor City\, Habtoor\, United Arab Emirates
CATEGORIES:Networking Opportunities
ATTACH;FMTTYPE=image/png:https://strategicbusinessconnect.com/wp-content/uploads/2026/04/refereals.png
END:VEVENT
BEGIN:VEVENT
DTSTART;TZID=UTC:20290510T143000
DTEND;TZID=UTC:20290510T173000
DTSTAMP:20260425T171825
CREATED:20260424T015416Z
LAST-MODIFIED:20260424T015416Z
UID:10002385-1873117800-1873128600@strategicbusinessconnect.com
SUMMARY:Enter Event title here
DESCRIPTION:Enter description here \nBook Now
URL:https://strategicbusinessconnect.com/event/enter-event-title-here/2029-05-10/
LOCATION:Belgravia – Neera Members Club – Habtoor City\, Habtoor\, United Arab Emirates
CATEGORIES:Networking Opportunities
ATTACH;FMTTYPE=image/png:https://strategicbusinessconnect.com/wp-content/uploads/2026/04/refereals.png
END:VEVENT
BEGIN:VEVENT
DTSTART;TZID=UTC:20290517T143000
DTEND;TZID=UTC:20290517T173000
DTSTAMP:20260425T171825
CREATED:20260424T015416Z
LAST-MODIFIED:20260424T015416Z
UID:10002386-1873722600-1873733400@strategicbusinessconnect.com
SUMMARY:Enter Event title here
DESCRIPTION:Enter description here \nBook Now
URL:https://strategicbusinessconnect.com/event/enter-event-title-here/2029-05-17/
LOCATION:Belgravia – Neera Members Club – Habtoor City\, Habtoor\, United Arab Emirates
CATEGORIES:Networking Opportunities
ATTACH;FMTTYPE=image/png:https://strategicbusinessconnect.com/wp-content/uploads/2026/04/refereals.png
END:VEVENT
BEGIN:VEVENT
DTSTART;TZID=UTC:20290524T143000
DTEND;TZID=UTC:20290524T173000
DTSTAMP:20260425T171825
CREATED:20260424T015416Z
LAST-MODIFIED:20260424T015416Z
UID:10002387-1874327400-1874338200@strategicbusinessconnect.com
SUMMARY:Enter Event title here
DESCRIPTION:Enter description here \nBook Now
URL:https://strategicbusinessconnect.com/event/enter-event-title-here/2029-05-24/
LOCATION:Belgravia – Neera Members Club – Habtoor City\, Habtoor\, United Arab Emirates
CATEGORIES:Networking Opportunities
ATTACH;FMTTYPE=image/png:https://strategicbusinessconnect.com/wp-content/uploads/2026/04/refereals.png
END:VEVENT
END:VCALENDAR