BEGIN:VCALENDAR
VERSION:2.0
PRODID:-//SBC - ECPv6.15.12.2//NONSGML v1.0//EN
CALSCALE:GREGORIAN
METHOD:PUBLISH
X-WR-CALNAME:SBC
X-ORIGINAL-URL:https://strategicbusinessconnect.com
X-WR-CALDESC:Events for SBC
REFRESH-INTERVAL;VALUE=DURATION:PT1H
X-Robots-Tag:noindex
X-PUBLISHED-TTL:PT1H
BEGIN:VTIMEZONE
TZID:UTC
BEGIN:STANDARD
TZOFFSETFROM:+0000
TZOFFSETTO:+0000
TZNAME:UTC
DTSTART:20260101T000000
END:STANDARD
END:VTIMEZONE
BEGIN:VEVENT
DTSTART;TZID=UTC:20270701T143000
DTEND;TZID=UTC:20270701T173000
DTSTAMP:20260425T080211
CREATED:20260424T015416Z
LAST-MODIFIED:20260424T015416Z
UID:10002288-1814452200-1814463000@strategicbusinessconnect.com
SUMMARY:Enter Event title here
DESCRIPTION:Enter description here \nBook Now
URL:https://strategicbusinessconnect.com/event/enter-event-title-here/2027-07-01/
LOCATION:Belgravia – Neera Members Club – Habtoor City\, Habtoor\, United Arab Emirates
CATEGORIES:Networking Opportunities
ATTACH;FMTTYPE=image/png:https://strategicbusinessconnect.com/wp-content/uploads/2026/04/refereals.png
END:VEVENT
BEGIN:VEVENT
DTSTART;TZID=UTC:20270708T143000
DTEND;TZID=UTC:20270708T173000
DTSTAMP:20260425T080211
CREATED:20260424T015416Z
LAST-MODIFIED:20260424T015416Z
UID:10002289-1815057000-1815067800@strategicbusinessconnect.com
SUMMARY:Enter Event title here
DESCRIPTION:Enter description here \nBook Now
URL:https://strategicbusinessconnect.com/event/enter-event-title-here/2027-07-08/
LOCATION:Belgravia – Neera Members Club – Habtoor City\, Habtoor\, United Arab Emirates
CATEGORIES:Networking Opportunities
ATTACH;FMTTYPE=image/png:https://strategicbusinessconnect.com/wp-content/uploads/2026/04/refereals.png
END:VEVENT
BEGIN:VEVENT
DTSTART;TZID=UTC:20270715T143000
DTEND;TZID=UTC:20270715T173000
DTSTAMP:20260425T080211
CREATED:20260424T015416Z
LAST-MODIFIED:20260424T015416Z
UID:10002290-1815661800-1815672600@strategicbusinessconnect.com
SUMMARY:Enter Event title here
DESCRIPTION:Enter description here \nBook Now
URL:https://strategicbusinessconnect.com/event/enter-event-title-here/2027-07-15/
LOCATION:Belgravia – Neera Members Club – Habtoor City\, Habtoor\, United Arab Emirates
CATEGORIES:Networking Opportunities
ATTACH;FMTTYPE=image/png:https://strategicbusinessconnect.com/wp-content/uploads/2026/04/refereals.png
END:VEVENT
BEGIN:VEVENT
DTSTART;TZID=UTC:20270722T143000
DTEND;TZID=UTC:20270722T173000
DTSTAMP:20260425T080211
CREATED:20260424T015416Z
LAST-MODIFIED:20260424T015416Z
UID:10002291-1816266600-1816277400@strategicbusinessconnect.com
SUMMARY:Enter Event title here
DESCRIPTION:Enter description here \nBook Now
URL:https://strategicbusinessconnect.com/event/enter-event-title-here/2027-07-22/
LOCATION:Belgravia – Neera Members Club – Habtoor City\, Habtoor\, United Arab Emirates
CATEGORIES:Networking Opportunities
ATTACH;FMTTYPE=image/png:https://strategicbusinessconnect.com/wp-content/uploads/2026/04/refereals.png
END:VEVENT
BEGIN:VEVENT
DTSTART;TZID=UTC:20270729T143000
DTEND;TZID=UTC:20270729T173000
DTSTAMP:20260425T080211
CREATED:20260424T015416Z
LAST-MODIFIED:20260424T015416Z
UID:10002292-1816871400-1816882200@strategicbusinessconnect.com
SUMMARY:Enter Event title here
DESCRIPTION:Enter description here \nBook Now
URL:https://strategicbusinessconnect.com/event/enter-event-title-here/2027-07-29/
LOCATION:Belgravia – Neera Members Club – Habtoor City\, Habtoor\, United Arab Emirates
CATEGORIES:Networking Opportunities
ATTACH;FMTTYPE=image/png:https://strategicbusinessconnect.com/wp-content/uploads/2026/04/refereals.png
END:VEVENT
BEGIN:VEVENT
DTSTART;TZID=UTC:20270805T143000
DTEND;TZID=UTC:20270805T173000
DTSTAMP:20260425T080211
CREATED:20260424T015416Z
LAST-MODIFIED:20260424T015416Z
UID:10002293-1817476200-1817487000@strategicbusinessconnect.com
SUMMARY:Enter Event title here
DESCRIPTION:Enter description here \nBook Now
URL:https://strategicbusinessconnect.com/event/enter-event-title-here/2027-08-05/
LOCATION:Belgravia – Neera Members Club – Habtoor City\, Habtoor\, United Arab Emirates
CATEGORIES:Networking Opportunities
ATTACH;FMTTYPE=image/png:https://strategicbusinessconnect.com/wp-content/uploads/2026/04/refereals.png
END:VEVENT
BEGIN:VEVENT
DTSTART;TZID=UTC:20270812T143000
DTEND;TZID=UTC:20270812T173000
DTSTAMP:20260425T080211
CREATED:20260424T015416Z
LAST-MODIFIED:20260424T015416Z
UID:10002294-1818081000-1818091800@strategicbusinessconnect.com
SUMMARY:Enter Event title here
DESCRIPTION:Enter description here \nBook Now
URL:https://strategicbusinessconnect.com/event/enter-event-title-here/2027-08-12/
LOCATION:Belgravia – Neera Members Club – Habtoor City\, Habtoor\, United Arab Emirates
CATEGORIES:Networking Opportunities
ATTACH;FMTTYPE=image/png:https://strategicbusinessconnect.com/wp-content/uploads/2026/04/refereals.png
END:VEVENT
BEGIN:VEVENT
DTSTART;TZID=UTC:20270819T143000
DTEND;TZID=UTC:20270819T173000
DTSTAMP:20260425T080211
CREATED:20260424T015416Z
LAST-MODIFIED:20260424T015416Z
UID:10002295-1818685800-1818696600@strategicbusinessconnect.com
SUMMARY:Enter Event title here
DESCRIPTION:Enter description here \nBook Now
URL:https://strategicbusinessconnect.com/event/enter-event-title-here/2027-08-19/
LOCATION:Belgravia – Neera Members Club – Habtoor City\, Habtoor\, United Arab Emirates
CATEGORIES:Networking Opportunities
ATTACH;FMTTYPE=image/png:https://strategicbusinessconnect.com/wp-content/uploads/2026/04/refereals.png
END:VEVENT
BEGIN:VEVENT
DTSTART;TZID=UTC:20270826T143000
DTEND;TZID=UTC:20270826T173000
DTSTAMP:20260425T080211
CREATED:20260424T015416Z
LAST-MODIFIED:20260424T015416Z
UID:10002296-1819290600-1819301400@strategicbusinessconnect.com
SUMMARY:Enter Event title here
DESCRIPTION:Enter description here \nBook Now
URL:https://strategicbusinessconnect.com/event/enter-event-title-here/2027-08-26/
LOCATION:Belgravia – Neera Members Club – Habtoor City\, Habtoor\, United Arab Emirates
CATEGORIES:Networking Opportunities
ATTACH;FMTTYPE=image/png:https://strategicbusinessconnect.com/wp-content/uploads/2026/04/refereals.png
END:VEVENT
BEGIN:VEVENT
DTSTART;TZID=UTC:20270902T143000
DTEND;TZID=UTC:20270902T173000
DTSTAMP:20260425T080211
CREATED:20260424T015416Z
LAST-MODIFIED:20260424T015416Z
UID:10002297-1819895400-1819906200@strategicbusinessconnect.com
SUMMARY:Enter Event title here
DESCRIPTION:Enter description here \nBook Now
URL:https://strategicbusinessconnect.com/event/enter-event-title-here/2027-09-02/
LOCATION:Belgravia – Neera Members Club – Habtoor City\, Habtoor\, United Arab Emirates
CATEGORIES:Networking Opportunities
ATTACH;FMTTYPE=image/png:https://strategicbusinessconnect.com/wp-content/uploads/2026/04/refereals.png
END:VEVENT
BEGIN:VEVENT
DTSTART;TZID=UTC:20270909T143000
DTEND;TZID=UTC:20270909T173000
DTSTAMP:20260425T080211
CREATED:20260424T015416Z
LAST-MODIFIED:20260424T015416Z
UID:10002298-1820500200-1820511000@strategicbusinessconnect.com
SUMMARY:Enter Event title here
DESCRIPTION:Enter description here \nBook Now
URL:https://strategicbusinessconnect.com/event/enter-event-title-here/2027-09-09/
LOCATION:Belgravia – Neera Members Club – Habtoor City\, Habtoor\, United Arab Emirates
CATEGORIES:Networking Opportunities
ATTACH;FMTTYPE=image/png:https://strategicbusinessconnect.com/wp-content/uploads/2026/04/refereals.png
END:VEVENT
BEGIN:VEVENT
DTSTART;TZID=UTC:20270916T143000
DTEND;TZID=UTC:20270916T173000
DTSTAMP:20260425T080211
CREATED:20260424T015416Z
LAST-MODIFIED:20260424T015416Z
UID:10002299-1821105000-1821115800@strategicbusinessconnect.com
SUMMARY:Enter Event title here
DESCRIPTION:Enter description here \nBook Now
URL:https://strategicbusinessconnect.com/event/enter-event-title-here/2027-09-16/
LOCATION:Belgravia – Neera Members Club – Habtoor City\, Habtoor\, United Arab Emirates
CATEGORIES:Networking Opportunities
ATTACH;FMTTYPE=image/png:https://strategicbusinessconnect.com/wp-content/uploads/2026/04/refereals.png
END:VEVENT
BEGIN:VEVENT
DTSTART;TZID=UTC:20270923T143000
DTEND;TZID=UTC:20270923T173000
DTSTAMP:20260425T080211
CREATED:20260424T015416Z
LAST-MODIFIED:20260424T015416Z
UID:10002300-1821709800-1821720600@strategicbusinessconnect.com
SUMMARY:Enter Event title here
DESCRIPTION:Enter description here \nBook Now
URL:https://strategicbusinessconnect.com/event/enter-event-title-here/2027-09-23/
LOCATION:Belgravia – Neera Members Club – Habtoor City\, Habtoor\, United Arab Emirates
CATEGORIES:Networking Opportunities
ATTACH;FMTTYPE=image/png:https://strategicbusinessconnect.com/wp-content/uploads/2026/04/refereals.png
END:VEVENT
BEGIN:VEVENT
DTSTART;TZID=UTC:20270930T143000
DTEND;TZID=UTC:20270930T173000
DTSTAMP:20260425T080211
CREATED:20260424T015416Z
LAST-MODIFIED:20260424T015416Z
UID:10002301-1822314600-1822325400@strategicbusinessconnect.com
SUMMARY:Enter Event title here
DESCRIPTION:Enter description here \nBook Now
URL:https://strategicbusinessconnect.com/event/enter-event-title-here/2027-09-30/
LOCATION:Belgravia – Neera Members Club – Habtoor City\, Habtoor\, United Arab Emirates
CATEGORIES:Networking Opportunities
ATTACH;FMTTYPE=image/png:https://strategicbusinessconnect.com/wp-content/uploads/2026/04/refereals.png
END:VEVENT
BEGIN:VEVENT
DTSTART;TZID=UTC:20271007T143000
DTEND;TZID=UTC:20271007T173000
DTSTAMP:20260425T080211
CREATED:20260424T015416Z
LAST-MODIFIED:20260424T015416Z
UID:10002302-1822919400-1822930200@strategicbusinessconnect.com
SUMMARY:Enter Event title here
DESCRIPTION:Enter description here \nBook Now
URL:https://strategicbusinessconnect.com/event/enter-event-title-here/2027-10-07/
LOCATION:Belgravia – Neera Members Club – Habtoor City\, Habtoor\, United Arab Emirates
CATEGORIES:Networking Opportunities
ATTACH;FMTTYPE=image/png:https://strategicbusinessconnect.com/wp-content/uploads/2026/04/refereals.png
END:VEVENT
BEGIN:VEVENT
DTSTART;TZID=UTC:20271014T143000
DTEND;TZID=UTC:20271014T173000
DTSTAMP:20260425T080211
CREATED:20260424T015416Z
LAST-MODIFIED:20260424T015416Z
UID:10002303-1823524200-1823535000@strategicbusinessconnect.com
SUMMARY:Enter Event title here
DESCRIPTION:Enter description here \nBook Now
URL:https://strategicbusinessconnect.com/event/enter-event-title-here/2027-10-14/
LOCATION:Belgravia – Neera Members Club – Habtoor City\, Habtoor\, United Arab Emirates
CATEGORIES:Networking Opportunities
ATTACH;FMTTYPE=image/png:https://strategicbusinessconnect.com/wp-content/uploads/2026/04/refereals.png
END:VEVENT
BEGIN:VEVENT
DTSTART;TZID=UTC:20271021T143000
DTEND;TZID=UTC:20271021T173000
DTSTAMP:20260425T080211
CREATED:20260424T015416Z
LAST-MODIFIED:20260424T015416Z
UID:10002304-1824129000-1824139800@strategicbusinessconnect.com
SUMMARY:Enter Event title here
DESCRIPTION:Enter description here \nBook Now
URL:https://strategicbusinessconnect.com/event/enter-event-title-here/2027-10-21/
LOCATION:Belgravia – Neera Members Club – Habtoor City\, Habtoor\, United Arab Emirates
CATEGORIES:Networking Opportunities
ATTACH;FMTTYPE=image/png:https://strategicbusinessconnect.com/wp-content/uploads/2026/04/refereals.png
END:VEVENT
BEGIN:VEVENT
DTSTART;TZID=UTC:20271028T143000
DTEND;TZID=UTC:20271028T173000
DTSTAMP:20260425T080211
CREATED:20260424T015416Z
LAST-MODIFIED:20260424T015416Z
UID:10002305-1824733800-1824744600@strategicbusinessconnect.com
SUMMARY:Enter Event title here
DESCRIPTION:Enter description here \nBook Now
URL:https://strategicbusinessconnect.com/event/enter-event-title-here/2027-10-28/
LOCATION:Belgravia – Neera Members Club – Habtoor City\, Habtoor\, United Arab Emirates
CATEGORIES:Networking Opportunities
ATTACH;FMTTYPE=image/png:https://strategicbusinessconnect.com/wp-content/uploads/2026/04/refereals.png
END:VEVENT
BEGIN:VEVENT
DTSTART;TZID=UTC:20271104T143000
DTEND;TZID=UTC:20271104T173000
DTSTAMP:20260425T080211
CREATED:20260424T015416Z
LAST-MODIFIED:20260424T015416Z
UID:10002306-1825338600-1825349400@strategicbusinessconnect.com
SUMMARY:Enter Event title here
DESCRIPTION:Enter description here \nBook Now
URL:https://strategicbusinessconnect.com/event/enter-event-title-here/2027-11-04/
LOCATION:Belgravia – Neera Members Club – Habtoor City\, Habtoor\, United Arab Emirates
CATEGORIES:Networking Opportunities
ATTACH;FMTTYPE=image/png:https://strategicbusinessconnect.com/wp-content/uploads/2026/04/refereals.png
END:VEVENT
BEGIN:VEVENT
DTSTART;TZID=UTC:20271111T143000
DTEND;TZID=UTC:20271111T173000
DTSTAMP:20260425T080211
CREATED:20260424T015416Z
LAST-MODIFIED:20260424T015416Z
UID:10002307-1825943400-1825954200@strategicbusinessconnect.com
SUMMARY:Enter Event title here
DESCRIPTION:Enter description here \nBook Now
URL:https://strategicbusinessconnect.com/event/enter-event-title-here/2027-11-11/
LOCATION:Belgravia – Neera Members Club – Habtoor City\, Habtoor\, United Arab Emirates
CATEGORIES:Networking Opportunities
ATTACH;FMTTYPE=image/png:https://strategicbusinessconnect.com/wp-content/uploads/2026/04/refereals.png
END:VEVENT
BEGIN:VEVENT
DTSTART;TZID=UTC:20271118T143000
DTEND;TZID=UTC:20271118T173000
DTSTAMP:20260425T080212
CREATED:20260424T015416Z
LAST-MODIFIED:20260424T015416Z
UID:10002308-1826548200-1826559000@strategicbusinessconnect.com
SUMMARY:Enter Event title here
DESCRIPTION:Enter description here \nBook Now
URL:https://strategicbusinessconnect.com/event/enter-event-title-here/2027-11-18/
LOCATION:Belgravia – Neera Members Club – Habtoor City\, Habtoor\, United Arab Emirates
CATEGORIES:Networking Opportunities
ATTACH;FMTTYPE=image/png:https://strategicbusinessconnect.com/wp-content/uploads/2026/04/refereals.png
END:VEVENT
BEGIN:VEVENT
DTSTART;TZID=UTC:20271125T143000
DTEND;TZID=UTC:20271125T173000
DTSTAMP:20260425T080212
CREATED:20260424T015416Z
LAST-MODIFIED:20260424T015416Z
UID:10002309-1827153000-1827163800@strategicbusinessconnect.com
SUMMARY:Enter Event title here
DESCRIPTION:Enter description here \nBook Now
URL:https://strategicbusinessconnect.com/event/enter-event-title-here/2027-11-25/
LOCATION:Belgravia – Neera Members Club – Habtoor City\, Habtoor\, United Arab Emirates
CATEGORIES:Networking Opportunities
ATTACH;FMTTYPE=image/png:https://strategicbusinessconnect.com/wp-content/uploads/2026/04/refereals.png
END:VEVENT
BEGIN:VEVENT
DTSTART;TZID=UTC:20271202T143000
DTEND;TZID=UTC:20271202T173000
DTSTAMP:20260425T080212
CREATED:20260424T015416Z
LAST-MODIFIED:20260424T015416Z
UID:10002310-1827757800-1827768600@strategicbusinessconnect.com
SUMMARY:Enter Event title here
DESCRIPTION:Enter description here \nBook Now
URL:https://strategicbusinessconnect.com/event/enter-event-title-here/2027-12-02/
LOCATION:Belgravia – Neera Members Club – Habtoor City\, Habtoor\, United Arab Emirates
CATEGORIES:Networking Opportunities
ATTACH;FMTTYPE=image/png:https://strategicbusinessconnect.com/wp-content/uploads/2026/04/refereals.png
END:VEVENT
BEGIN:VEVENT
DTSTART;TZID=UTC:20271209T143000
DTEND;TZID=UTC:20271209T173000
DTSTAMP:20260425T080212
CREATED:20260424T015416Z
LAST-MODIFIED:20260424T015416Z
UID:10002311-1828362600-1828373400@strategicbusinessconnect.com
SUMMARY:Enter Event title here
DESCRIPTION:Enter description here \nBook Now
URL:https://strategicbusinessconnect.com/event/enter-event-title-here/2027-12-09/
LOCATION:Belgravia – Neera Members Club – Habtoor City\, Habtoor\, United Arab Emirates
CATEGORIES:Networking Opportunities
ATTACH;FMTTYPE=image/png:https://strategicbusinessconnect.com/wp-content/uploads/2026/04/refereals.png
END:VEVENT
BEGIN:VEVENT
DTSTART;TZID=UTC:20271216T143000
DTEND;TZID=UTC:20271216T173000
DTSTAMP:20260425T080212
CREATED:20260424T015416Z
LAST-MODIFIED:20260424T015416Z
UID:10002312-1828967400-1828978200@strategicbusinessconnect.com
SUMMARY:Enter Event title here
DESCRIPTION:Enter description here \nBook Now
URL:https://strategicbusinessconnect.com/event/enter-event-title-here/2027-12-16/
LOCATION:Belgravia – Neera Members Club – Habtoor City\, Habtoor\, United Arab Emirates
CATEGORIES:Networking Opportunities
ATTACH;FMTTYPE=image/png:https://strategicbusinessconnect.com/wp-content/uploads/2026/04/refereals.png
END:VEVENT
BEGIN:VEVENT
DTSTART;TZID=UTC:20271223T143000
DTEND;TZID=UTC:20271223T173000
DTSTAMP:20260425T080212
CREATED:20260424T015416Z
LAST-MODIFIED:20260424T015416Z
UID:10002313-1829572200-1829583000@strategicbusinessconnect.com
SUMMARY:Enter Event title here
DESCRIPTION:Enter description here \nBook Now
URL:https://strategicbusinessconnect.com/event/enter-event-title-here/2027-12-23/
LOCATION:Belgravia – Neera Members Club – Habtoor City\, Habtoor\, United Arab Emirates
CATEGORIES:Networking Opportunities
ATTACH;FMTTYPE=image/png:https://strategicbusinessconnect.com/wp-content/uploads/2026/04/refereals.png
END:VEVENT
BEGIN:VEVENT
DTSTART;TZID=UTC:20271230T143000
DTEND;TZID=UTC:20271230T173000
DTSTAMP:20260425T080212
CREATED:20260424T015416Z
LAST-MODIFIED:20260424T015416Z
UID:10002314-1830177000-1830187800@strategicbusinessconnect.com
SUMMARY:Enter Event title here
DESCRIPTION:Enter description here \nBook Now
URL:https://strategicbusinessconnect.com/event/enter-event-title-here/2027-12-30/
LOCATION:Belgravia – Neera Members Club – Habtoor City\, Habtoor\, United Arab Emirates
CATEGORIES:Networking Opportunities
ATTACH;FMTTYPE=image/png:https://strategicbusinessconnect.com/wp-content/uploads/2026/04/refereals.png
END:VEVENT
BEGIN:VEVENT
DTSTART;TZID=UTC:20280106T143000
DTEND;TZID=UTC:20280106T173000
DTSTAMP:20260425T080212
CREATED:20260424T015416Z
LAST-MODIFIED:20260424T015416Z
UID:10002315-1830781800-1830792600@strategicbusinessconnect.com
SUMMARY:Enter Event title here
DESCRIPTION:Enter description here \nBook Now
URL:https://strategicbusinessconnect.com/event/enter-event-title-here/2028-01-06/
LOCATION:Belgravia – Neera Members Club – Habtoor City\, Habtoor\, United Arab Emirates
CATEGORIES:Networking Opportunities
ATTACH;FMTTYPE=image/png:https://strategicbusinessconnect.com/wp-content/uploads/2026/04/refereals.png
END:VEVENT
BEGIN:VEVENT
DTSTART;TZID=UTC:20280113T143000
DTEND;TZID=UTC:20280113T173000
DTSTAMP:20260425T080212
CREATED:20260424T015416Z
LAST-MODIFIED:20260424T015416Z
UID:10002316-1831386600-1831397400@strategicbusinessconnect.com
SUMMARY:Enter Event title here
DESCRIPTION:Enter description here \nBook Now
URL:https://strategicbusinessconnect.com/event/enter-event-title-here/2028-01-13/
LOCATION:Belgravia – Neera Members Club – Habtoor City\, Habtoor\, United Arab Emirates
CATEGORIES:Networking Opportunities
ATTACH;FMTTYPE=image/png:https://strategicbusinessconnect.com/wp-content/uploads/2026/04/refereals.png
END:VEVENT
BEGIN:VEVENT
DTSTART;TZID=UTC:20280120T143000
DTEND;TZID=UTC:20280120T173000
DTSTAMP:20260425T080212
CREATED:20260424T015416Z
LAST-MODIFIED:20260424T015416Z
UID:10002317-1831991400-1832002200@strategicbusinessconnect.com
SUMMARY:Enter Event title here
DESCRIPTION:Enter description here \nBook Now
URL:https://strategicbusinessconnect.com/event/enter-event-title-here/2028-01-20/
LOCATION:Belgravia – Neera Members Club – Habtoor City\, Habtoor\, United Arab Emirates
CATEGORIES:Networking Opportunities
ATTACH;FMTTYPE=image/png:https://strategicbusinessconnect.com/wp-content/uploads/2026/04/refereals.png
END:VEVENT
END:VCALENDAR