BEGIN:VCALENDAR
VERSION:2.0
PRODID:-//SBC - ECPv6.15.12.2//NONSGML v1.0//EN
CALSCALE:GREGORIAN
METHOD:PUBLISH
X-ORIGINAL-URL:https://strategicbusinessconnect.com
X-WR-CALDESC:Events for SBC
REFRESH-INTERVAL;VALUE=DURATION:PT1H
X-Robots-Tag:noindex
X-PUBLISHED-TTL:PT1H
BEGIN:VTIMEZONE
TZID:Asia/Dubai
BEGIN:STANDARD
TZOFFSETFROM:+0400
TZOFFSETTO:+0400
TZNAME:+04
DTSTART:20250101T000000
END:STANDARD
END:VTIMEZONE
BEGIN:VEVENT
DTSTART;TZID=Asia/Dubai:20260515T083000
DTEND;TZID=Asia/Dubai:20260515T103000
DTSTAMP:20260425T011042
CREATED:20250609T182138Z
LAST-MODIFIED:20260423T224316Z
UID:10000126-1778833800-1778841000@strategicbusinessconnect.com
SUMMARY:SBC Mixed Business Curated Deep Dive RAK-Ras Al Khaimah
DESCRIPTION:What is an SBC Curated Deep Dive?  \nSBC Deep Dive is a curated Networking opportunity like no other. You can choose which group to attend based on either the clients you look for or the collaborations you need. Then because the number is limited we help you uncover as many possibilites in the time as possible o not only can you introdcue your business and lsten to the others you wlak away wioth clear “next steps” and more possibilities then you could ever imagine. \nHow an SBC Deep Dive Works \nI love SBC- Neil Hamp Adams \nTired of going to networking events where you walk away having only met a hand full of people and feel like you missed most of the opportunities? I met clients\, testimonial by  Mohamed Rizk \nTired of feeling uncomfortable – (Why I love it testimonial from Mandy Priestley) \nTired of not knowing what to say? \nTired of speakers taking up your valuable networking time? \nMaximise your networking\, and meet everyone in the room. Have fun with warm\, connected people and get more results through our proven Super Connect process! \nMeet Potential Clients \nMeet Potential Suppliers \nMeet Collaborative Professionals \nMeet Great People \nWe love it as well \nAbhishek Chatterjee \nDina Chauhan \nYujin Koola \nJoin us. \nBook Now
URL:https://strategicbusinessconnect.com/event/sbc-mixed-business-curated-deep-dive-rak-ras-al-khaimah/
LOCATION:TBC\, United Arab Emirates
CATEGORIES:Business
ATTACH;FMTTYPE=image/png:https://strategicbusinessconnect.com/wp-content/uploads/2025/06/SBCUKdeepdive.png
END:VEVENT
BEGIN:VEVENT
DTSTART;TZID=Asia/Dubai:20260515T150000
DTEND;TZID=Asia/Dubai:20260515T183000
DTSTAMP:20260425T011042
CREATED:20250506T081108Z
LAST-MODIFIED:20260423T224118Z
UID:10000038-1778857200-1778869800@strategicbusinessconnect.com
SUMMARY:SBC Sundowners RAK - Ras Al Khaimah
DESCRIPTION:Join us to close the working week and welcome the weekend in our first ever SBC RAK Sundowners \nThis is a super relaxed time to chat and catch up. While people connect and hand out business cards\, it’s more about connecting and relaxing. \nAnyone is welcome to join us for FREE \nEnjoy happy hour prices between 4.30pm – 6pm. \nIt’s a great chance to forge new relationships\, strengthen existing bonds\, and ignite your weekend adventures!  \nWe kindly ask that you register your spot and nominate your guest for this event ( you can bring one person only). \nWe look forward to catching up and spending some quality time together. Join us for laughter\, conversation\, and the joy of being part of our incredible community.  \nNB. Kindly be informed that this event is held in a restaurant/bar environment. \nBook Now
URL:https://strategicbusinessconnect.com/event/sbc-sundowners-rak-ras-al-khaimah/
LOCATION:TBC\, United Arab Emirates
CATEGORIES:Networking Opportunities
ATTACH;FMTTYPE=image/png:https://strategicbusinessconnect.com/wp-content/uploads/2025/05/WhatsApp-Image-2024-03-04-at-12-46-00_e269a449.png
END:VEVENT
END:VCALENDAR