BEGIN:VCALENDAR
VERSION:2.0
PRODID:-//SBC - ECPv6.15.12.2//NONSGML v1.0//EN
CALSCALE:GREGORIAN
METHOD:PUBLISH
X-ORIGINAL-URL:https://strategicbusinessconnect.com
X-WR-CALDESC:Events for SBC
REFRESH-INTERVAL;VALUE=DURATION:PT1H
X-Robots-Tag:noindex
X-PUBLISHED-TTL:PT1H
BEGIN:VTIMEZONE
TZID:Asia/Dubai
BEGIN:STANDARD
TZOFFSETFROM:+0400
TZOFFSETTO:+0400
TZNAME:+04
DTSTART:20250101T000000
END:STANDARD
END:VTIMEZONE
BEGIN:VEVENT
DTSTART;TZID=Asia/Dubai:20260430T100000
DTEND;TZID=Asia/Dubai:20260430T120000
DTSTAMP:20260425T011115
CREATED:20260423T215622Z
LAST-MODIFIED:20260423T220152Z
UID:10001707-1777543200-1777550400@strategicbusinessconnect.com
SUMMARY:SBC Golf Connect
DESCRIPTION:Imagine this…\nYou’re hitting balls\, having fun\, talking life\, business and opportunity — and suddenly you realise…\nyou’re networking without even trying. \nIntroducing our new relaxed meet-up for people who love golf and great company. \n🌟 Location: Golf Simulator or Top Golf TBC each time please check the location on each event\n🌟 Vibe: Zero pressure. 100% connection.\n🌟 Goal: Build relationships while having fun. \nIncludes : Soft drinks and Golf \nWhether you’re a scratch golfer or just enjoy the game\, you’ll fit right in.\nCome for the swings… stay for the conversations. \nThis is networking the way it should be. \nClick to connect
URL:https://strategicbusinessconnect.com/event/sbc-golf-connect/
LOCATION:Top Golf\, Emirates Golf Club، 17/2\, Al Naseem street Emirates Golf Club\, Al Thanyah 3\, Hadaeq Mohammed Bin Rashid\,\, Dubai\, United Arab Emirates
CATEGORIES:Business
ATTACH;FMTTYPE=image/png:https://strategicbusinessconnect.com/wp-content/uploads/2026/04/sbc-golf-connect.png
END:VEVENT
END:VCALENDAR