BEGIN:VCALENDAR
VERSION:2.0
PRODID:-//SBC - ECPv6.15.12.2//NONSGML v1.0//EN
CALSCALE:GREGORIAN
METHOD:PUBLISH
X-ORIGINAL-URL:https://strategicbusinessconnect.com
X-WR-CALDESC:Events for SBC
REFRESH-INTERVAL;VALUE=DURATION:PT1H
X-Robots-Tag:noindex
X-PUBLISHED-TTL:PT1H
BEGIN:VTIMEZONE
TZID:UTC
BEGIN:STANDARD
TZOFFSETFROM:+0000
TZOFFSETTO:+0000
TZNAME:UTC
DTSTART:20280101T000000
END:STANDARD
END:VTIMEZONE
BEGIN:VEVENT
DTSTART;TZID=UTC:20290816T143000
DTEND;TZID=UTC:20290816T173000
DTSTAMP:20260425T231740
CREATED:20260424T015416Z
LAST-MODIFIED:20260424T015416Z
UID:10002399-1881585000-1881595800@strategicbusinessconnect.com
SUMMARY:Enter Event title here
DESCRIPTION:Enter description here \nBook Now
URL:https://strategicbusinessconnect.com/event/enter-event-title-here/2029-08-16/
LOCATION:Belgravia – Neera Members Club – Habtoor City\, Habtoor\, United Arab Emirates
CATEGORIES:Networking Opportunities
ATTACH;FMTTYPE=image/png:https://strategicbusinessconnect.com/wp-content/uploads/2026/04/refereals.png
END:VEVENT
BEGIN:VEVENT
DTSTART;TZID=UTC:20290823T143000
DTEND;TZID=UTC:20290823T173000
DTSTAMP:20260425T231740
CREATED:20260424T015416Z
LAST-MODIFIED:20260424T015416Z
UID:10002400-1882189800-1882200600@strategicbusinessconnect.com
SUMMARY:Enter Event title here
DESCRIPTION:Enter description here \nBook Now
URL:https://strategicbusinessconnect.com/event/enter-event-title-here/2029-08-23/
LOCATION:Belgravia – Neera Members Club – Habtoor City\, Habtoor\, United Arab Emirates
CATEGORIES:Networking Opportunities
ATTACH;FMTTYPE=image/png:https://strategicbusinessconnect.com/wp-content/uploads/2026/04/refereals.png
END:VEVENT
BEGIN:VEVENT
DTSTART;TZID=UTC:20290830T143000
DTEND;TZID=UTC:20290830T173000
DTSTAMP:20260425T231740
CREATED:20260424T015416Z
LAST-MODIFIED:20260424T015416Z
UID:10002401-1882794600-1882805400@strategicbusinessconnect.com
SUMMARY:Enter Event title here
DESCRIPTION:Enter description here \nBook Now
URL:https://strategicbusinessconnect.com/event/enter-event-title-here/2029-08-30/
LOCATION:Belgravia – Neera Members Club – Habtoor City\, Habtoor\, United Arab Emirates
CATEGORIES:Networking Opportunities
ATTACH;FMTTYPE=image/png:https://strategicbusinessconnect.com/wp-content/uploads/2026/04/refereals.png
END:VEVENT
BEGIN:VEVENT
DTSTART;TZID=UTC:20290906T143000
DTEND;TZID=UTC:20290906T173000
DTSTAMP:20260425T231740
CREATED:20260424T015416Z
LAST-MODIFIED:20260424T015416Z
UID:10002402-1883399400-1883410200@strategicbusinessconnect.com
SUMMARY:Enter Event title here
DESCRIPTION:Enter description here \nBook Now
URL:https://strategicbusinessconnect.com/event/enter-event-title-here/2029-09-06/
LOCATION:Belgravia – Neera Members Club – Habtoor City\, Habtoor\, United Arab Emirates
CATEGORIES:Networking Opportunities
ATTACH;FMTTYPE=image/png:https://strategicbusinessconnect.com/wp-content/uploads/2026/04/refereals.png
END:VEVENT
BEGIN:VEVENT
DTSTART;TZID=UTC:20290913T143000
DTEND;TZID=UTC:20290913T173000
DTSTAMP:20260425T231740
CREATED:20260424T015416Z
LAST-MODIFIED:20260424T015416Z
UID:10002403-1884004200-1884015000@strategicbusinessconnect.com
SUMMARY:Enter Event title here
DESCRIPTION:Enter description here \nBook Now
URL:https://strategicbusinessconnect.com/event/enter-event-title-here/2029-09-13/
LOCATION:Belgravia – Neera Members Club – Habtoor City\, Habtoor\, United Arab Emirates
CATEGORIES:Networking Opportunities
ATTACH;FMTTYPE=image/png:https://strategicbusinessconnect.com/wp-content/uploads/2026/04/refereals.png
END:VEVENT
BEGIN:VEVENT
DTSTART;TZID=UTC:20290920T143000
DTEND;TZID=UTC:20290920T173000
DTSTAMP:20260425T231740
CREATED:20260424T015416Z
LAST-MODIFIED:20260424T015416Z
UID:10002404-1884609000-1884619800@strategicbusinessconnect.com
SUMMARY:Enter Event title here
DESCRIPTION:Enter description here \nBook Now
URL:https://strategicbusinessconnect.com/event/enter-event-title-here/2029-09-20/
LOCATION:Belgravia – Neera Members Club – Habtoor City\, Habtoor\, United Arab Emirates
CATEGORIES:Networking Opportunities
ATTACH;FMTTYPE=image/png:https://strategicbusinessconnect.com/wp-content/uploads/2026/04/refereals.png
END:VEVENT
BEGIN:VEVENT
DTSTART;TZID=UTC:20290927T143000
DTEND;TZID=UTC:20290927T173000
DTSTAMP:20260425T231740
CREATED:20260424T015416Z
LAST-MODIFIED:20260424T015416Z
UID:10002405-1885213800-1885224600@strategicbusinessconnect.com
SUMMARY:Enter Event title here
DESCRIPTION:Enter description here \nBook Now
URL:https://strategicbusinessconnect.com/event/enter-event-title-here/2029-09-27/
LOCATION:Belgravia – Neera Members Club – Habtoor City\, Habtoor\, United Arab Emirates
CATEGORIES:Networking Opportunities
ATTACH;FMTTYPE=image/png:https://strategicbusinessconnect.com/wp-content/uploads/2026/04/refereals.png
END:VEVENT
BEGIN:VEVENT
DTSTART;TZID=UTC:20291004T143000
DTEND;TZID=UTC:20291004T173000
DTSTAMP:20260425T231740
CREATED:20260424T015416Z
LAST-MODIFIED:20260424T015416Z
UID:10002406-1885818600-1885829400@strategicbusinessconnect.com
SUMMARY:Enter Event title here
DESCRIPTION:Enter description here \nBook Now
URL:https://strategicbusinessconnect.com/event/enter-event-title-here/2029-10-04/
LOCATION:Belgravia – Neera Members Club – Habtoor City\, Habtoor\, United Arab Emirates
CATEGORIES:Networking Opportunities
ATTACH;FMTTYPE=image/png:https://strategicbusinessconnect.com/wp-content/uploads/2026/04/refereals.png
END:VEVENT
BEGIN:VEVENT
DTSTART;TZID=UTC:20291011T143000
DTEND;TZID=UTC:20291011T173000
DTSTAMP:20260425T231740
CREATED:20260424T015416Z
LAST-MODIFIED:20260424T015416Z
UID:10002407-1886423400-1886434200@strategicbusinessconnect.com
SUMMARY:Enter Event title here
DESCRIPTION:Enter description here \nBook Now
URL:https://strategicbusinessconnect.com/event/enter-event-title-here/2029-10-11/
LOCATION:Belgravia – Neera Members Club – Habtoor City\, Habtoor\, United Arab Emirates
CATEGORIES:Networking Opportunities
ATTACH;FMTTYPE=image/png:https://strategicbusinessconnect.com/wp-content/uploads/2026/04/refereals.png
END:VEVENT
BEGIN:VEVENT
DTSTART;TZID=UTC:20291018T143000
DTEND;TZID=UTC:20291018T173000
DTSTAMP:20260425T231740
CREATED:20260424T015416Z
LAST-MODIFIED:20260424T015416Z
UID:10002408-1887028200-1887039000@strategicbusinessconnect.com
SUMMARY:Enter Event title here
DESCRIPTION:Enter description here \nBook Now
URL:https://strategicbusinessconnect.com/event/enter-event-title-here/2029-10-18/
LOCATION:Belgravia – Neera Members Club – Habtoor City\, Habtoor\, United Arab Emirates
CATEGORIES:Networking Opportunities
ATTACH;FMTTYPE=image/png:https://strategicbusinessconnect.com/wp-content/uploads/2026/04/refereals.png
END:VEVENT
BEGIN:VEVENT
DTSTART;TZID=UTC:20291025T143000
DTEND;TZID=UTC:20291025T173000
DTSTAMP:20260425T231740
CREATED:20260424T015416Z
LAST-MODIFIED:20260424T015416Z
UID:10002409-1887633000-1887643800@strategicbusinessconnect.com
SUMMARY:Enter Event title here
DESCRIPTION:Enter description here \nBook Now
URL:https://strategicbusinessconnect.com/event/enter-event-title-here/2029-10-25/
LOCATION:Belgravia – Neera Members Club – Habtoor City\, Habtoor\, United Arab Emirates
CATEGORIES:Networking Opportunities
ATTACH;FMTTYPE=image/png:https://strategicbusinessconnect.com/wp-content/uploads/2026/04/refereals.png
END:VEVENT
BEGIN:VEVENT
DTSTART;TZID=UTC:20291101T143000
DTEND;TZID=UTC:20291101T173000
DTSTAMP:20260425T231740
CREATED:20260424T015416Z
LAST-MODIFIED:20260424T015416Z
UID:10002410-1888237800-1888248600@strategicbusinessconnect.com
SUMMARY:Enter Event title here
DESCRIPTION:Enter description here \nBook Now
URL:https://strategicbusinessconnect.com/event/enter-event-title-here/2029-11-01/
LOCATION:Belgravia – Neera Members Club – Habtoor City\, Habtoor\, United Arab Emirates
CATEGORIES:Networking Opportunities
ATTACH;FMTTYPE=image/png:https://strategicbusinessconnect.com/wp-content/uploads/2026/04/refereals.png
END:VEVENT
BEGIN:VEVENT
DTSTART;TZID=UTC:20291108T143000
DTEND;TZID=UTC:20291108T173000
DTSTAMP:20260425T231740
CREATED:20260424T015416Z
LAST-MODIFIED:20260424T015416Z
UID:10002411-1888842600-1888853400@strategicbusinessconnect.com
SUMMARY:Enter Event title here
DESCRIPTION:Enter description here \nBook Now
URL:https://strategicbusinessconnect.com/event/enter-event-title-here/2029-11-08/
LOCATION:Belgravia – Neera Members Club – Habtoor City\, Habtoor\, United Arab Emirates
CATEGORIES:Networking Opportunities
ATTACH;FMTTYPE=image/png:https://strategicbusinessconnect.com/wp-content/uploads/2026/04/refereals.png
END:VEVENT
BEGIN:VEVENT
DTSTART;TZID=UTC:20291115T143000
DTEND;TZID=UTC:20291115T173000
DTSTAMP:20260425T231740
CREATED:20260424T015416Z
LAST-MODIFIED:20260424T015416Z
UID:10002412-1889447400-1889458200@strategicbusinessconnect.com
SUMMARY:Enter Event title here
DESCRIPTION:Enter description here \nBook Now
URL:https://strategicbusinessconnect.com/event/enter-event-title-here/2029-11-15/
LOCATION:Belgravia – Neera Members Club – Habtoor City\, Habtoor\, United Arab Emirates
CATEGORIES:Networking Opportunities
ATTACH;FMTTYPE=image/png:https://strategicbusinessconnect.com/wp-content/uploads/2026/04/refereals.png
END:VEVENT
BEGIN:VEVENT
DTSTART;TZID=UTC:20291122T143000
DTEND;TZID=UTC:20291122T173000
DTSTAMP:20260425T231740
CREATED:20260424T015416Z
LAST-MODIFIED:20260424T015416Z
UID:10002413-1890052200-1890063000@strategicbusinessconnect.com
SUMMARY:Enter Event title here
DESCRIPTION:Enter description here \nBook Now
URL:https://strategicbusinessconnect.com/event/enter-event-title-here/2029-11-22/
LOCATION:Belgravia – Neera Members Club – Habtoor City\, Habtoor\, United Arab Emirates
CATEGORIES:Networking Opportunities
ATTACH;FMTTYPE=image/png:https://strategicbusinessconnect.com/wp-content/uploads/2026/04/refereals.png
END:VEVENT
BEGIN:VEVENT
DTSTART;TZID=UTC:20291129T143000
DTEND;TZID=UTC:20291129T173000
DTSTAMP:20260425T231740
CREATED:20260424T015416Z
LAST-MODIFIED:20260424T015416Z
UID:10002414-1890657000-1890667800@strategicbusinessconnect.com
SUMMARY:Enter Event title here
DESCRIPTION:Enter description here \nBook Now
URL:https://strategicbusinessconnect.com/event/enter-event-title-here/2029-11-29/
LOCATION:Belgravia – Neera Members Club – Habtoor City\, Habtoor\, United Arab Emirates
CATEGORIES:Networking Opportunities
ATTACH;FMTTYPE=image/png:https://strategicbusinessconnect.com/wp-content/uploads/2026/04/refereals.png
END:VEVENT
BEGIN:VEVENT
DTSTART;TZID=UTC:20291206T143000
DTEND;TZID=UTC:20291206T173000
DTSTAMP:20260425T231740
CREATED:20260424T015416Z
LAST-MODIFIED:20260424T015416Z
UID:10002415-1891261800-1891272600@strategicbusinessconnect.com
SUMMARY:Enter Event title here
DESCRIPTION:Enter description here \nBook Now
URL:https://strategicbusinessconnect.com/event/enter-event-title-here/2029-12-06/
LOCATION:Belgravia – Neera Members Club – Habtoor City\, Habtoor\, United Arab Emirates
CATEGORIES:Networking Opportunities
ATTACH;FMTTYPE=image/png:https://strategicbusinessconnect.com/wp-content/uploads/2026/04/refereals.png
END:VEVENT
BEGIN:VEVENT
DTSTART;TZID=UTC:20291213T143000
DTEND;TZID=UTC:20291213T173000
DTSTAMP:20260425T231740
CREATED:20260424T015416Z
LAST-MODIFIED:20260424T015416Z
UID:10002416-1891866600-1891877400@strategicbusinessconnect.com
SUMMARY:Enter Event title here
DESCRIPTION:Enter description here \nBook Now
URL:https://strategicbusinessconnect.com/event/enter-event-title-here/2029-12-13/
LOCATION:Belgravia – Neera Members Club – Habtoor City\, Habtoor\, United Arab Emirates
CATEGORIES:Networking Opportunities
ATTACH;FMTTYPE=image/png:https://strategicbusinessconnect.com/wp-content/uploads/2026/04/refereals.png
END:VEVENT
BEGIN:VEVENT
DTSTART;TZID=UTC:20291220T143000
DTEND;TZID=UTC:20291220T173000
DTSTAMP:20260425T231740
CREATED:20260424T015416Z
LAST-MODIFIED:20260424T015416Z
UID:10002417-1892471400-1892482200@strategicbusinessconnect.com
SUMMARY:Enter Event title here
DESCRIPTION:Enter description here \nBook Now
URL:https://strategicbusinessconnect.com/event/enter-event-title-here/2029-12-20/
LOCATION:Belgravia – Neera Members Club – Habtoor City\, Habtoor\, United Arab Emirates
CATEGORIES:Networking Opportunities
ATTACH;FMTTYPE=image/png:https://strategicbusinessconnect.com/wp-content/uploads/2026/04/refereals.png
END:VEVENT
BEGIN:VEVENT
DTSTART;TZID=UTC:20291227T143000
DTEND;TZID=UTC:20291227T173000
DTSTAMP:20260425T231740
CREATED:20260424T015416Z
LAST-MODIFIED:20260424T015416Z
UID:10002418-1893076200-1893087000@strategicbusinessconnect.com
SUMMARY:Enter Event title here
DESCRIPTION:Enter description here \nBook Now
URL:https://strategicbusinessconnect.com/event/enter-event-title-here/2029-12-27/
LOCATION:Belgravia – Neera Members Club – Habtoor City\, Habtoor\, United Arab Emirates
CATEGORIES:Networking Opportunities
ATTACH;FMTTYPE=image/png:https://strategicbusinessconnect.com/wp-content/uploads/2026/04/refereals.png
END:VEVENT
BEGIN:VEVENT
DTSTART;TZID=UTC:20300103T143000
DTEND;TZID=UTC:20300103T173000
DTSTAMP:20260425T231740
CREATED:20260424T015416Z
LAST-MODIFIED:20260424T015416Z
UID:10002419-1893681000-1893691800@strategicbusinessconnect.com
SUMMARY:Enter Event title here
DESCRIPTION:Enter description here \nBook Now
URL:https://strategicbusinessconnect.com/event/enter-event-title-here/2030-01-03/
LOCATION:Belgravia – Neera Members Club – Habtoor City\, Habtoor\, United Arab Emirates
CATEGORIES:Networking Opportunities
ATTACH;FMTTYPE=image/png:https://strategicbusinessconnect.com/wp-content/uploads/2026/04/refereals.png
END:VEVENT
BEGIN:VEVENT
DTSTART;TZID=UTC:20300110T143000
DTEND;TZID=UTC:20300110T173000
DTSTAMP:20260425T231740
CREATED:20260424T015416Z
LAST-MODIFIED:20260424T015416Z
UID:10002420-1894285800-1894296600@strategicbusinessconnect.com
SUMMARY:Enter Event title here
DESCRIPTION:Enter description here \nBook Now
URL:https://strategicbusinessconnect.com/event/enter-event-title-here/2030-01-10/
LOCATION:Belgravia – Neera Members Club – Habtoor City\, Habtoor\, United Arab Emirates
CATEGORIES:Networking Opportunities
ATTACH;FMTTYPE=image/png:https://strategicbusinessconnect.com/wp-content/uploads/2026/04/refereals.png
END:VEVENT
BEGIN:VEVENT
DTSTART;TZID=UTC:20300117T143000
DTEND;TZID=UTC:20300117T173000
DTSTAMP:20260425T231740
CREATED:20260424T015416Z
LAST-MODIFIED:20260424T015416Z
UID:10002421-1894890600-1894901400@strategicbusinessconnect.com
SUMMARY:Enter Event title here
DESCRIPTION:Enter description here \nBook Now
URL:https://strategicbusinessconnect.com/event/enter-event-title-here/2030-01-17/
LOCATION:Belgravia – Neera Members Club – Habtoor City\, Habtoor\, United Arab Emirates
CATEGORIES:Networking Opportunities
ATTACH;FMTTYPE=image/png:https://strategicbusinessconnect.com/wp-content/uploads/2026/04/refereals.png
END:VEVENT
BEGIN:VEVENT
DTSTART;TZID=UTC:20300124T143000
DTEND;TZID=UTC:20300124T173000
DTSTAMP:20260425T231740
CREATED:20260424T015416Z
LAST-MODIFIED:20260424T015416Z
UID:10002422-1895495400-1895506200@strategicbusinessconnect.com
SUMMARY:Enter Event title here
DESCRIPTION:Enter description here \nBook Now
URL:https://strategicbusinessconnect.com/event/enter-event-title-here/2030-01-24/
LOCATION:Belgravia – Neera Members Club – Habtoor City\, Habtoor\, United Arab Emirates
CATEGORIES:Networking Opportunities
ATTACH;FMTTYPE=image/png:https://strategicbusinessconnect.com/wp-content/uploads/2026/04/refereals.png
END:VEVENT
BEGIN:VEVENT
DTSTART;TZID=UTC:20300131T143000
DTEND;TZID=UTC:20300131T173000
DTSTAMP:20260425T231740
CREATED:20260424T015416Z
LAST-MODIFIED:20260424T015416Z
UID:10002423-1896100200-1896111000@strategicbusinessconnect.com
SUMMARY:Enter Event title here
DESCRIPTION:Enter description here \nBook Now
URL:https://strategicbusinessconnect.com/event/enter-event-title-here/2030-01-31/
LOCATION:Belgravia – Neera Members Club – Habtoor City\, Habtoor\, United Arab Emirates
CATEGORIES:Networking Opportunities
ATTACH;FMTTYPE=image/png:https://strategicbusinessconnect.com/wp-content/uploads/2026/04/refereals.png
END:VEVENT
BEGIN:VEVENT
DTSTART;TZID=UTC:20300207T143000
DTEND;TZID=UTC:20300207T173000
DTSTAMP:20260425T231740
CREATED:20260424T015416Z
LAST-MODIFIED:20260424T015416Z
UID:10002424-1896705000-1896715800@strategicbusinessconnect.com
SUMMARY:Enter Event title here
DESCRIPTION:Enter description here \nBook Now
URL:https://strategicbusinessconnect.com/event/enter-event-title-here/2030-02-07/
LOCATION:Belgravia – Neera Members Club – Habtoor City\, Habtoor\, United Arab Emirates
CATEGORIES:Networking Opportunities
ATTACH;FMTTYPE=image/png:https://strategicbusinessconnect.com/wp-content/uploads/2026/04/refereals.png
END:VEVENT
BEGIN:VEVENT
DTSTART;TZID=UTC:20300214T143000
DTEND;TZID=UTC:20300214T173000
DTSTAMP:20260425T231740
CREATED:20260424T015416Z
LAST-MODIFIED:20260424T015416Z
UID:10002425-1897309800-1897320600@strategicbusinessconnect.com
SUMMARY:Enter Event title here
DESCRIPTION:Enter description here \nBook Now
URL:https://strategicbusinessconnect.com/event/enter-event-title-here/2030-02-14/
LOCATION:Belgravia – Neera Members Club – Habtoor City\, Habtoor\, United Arab Emirates
CATEGORIES:Networking Opportunities
ATTACH;FMTTYPE=image/png:https://strategicbusinessconnect.com/wp-content/uploads/2026/04/refereals.png
END:VEVENT
BEGIN:VEVENT
DTSTART;TZID=UTC:20300221T143000
DTEND;TZID=UTC:20300221T173000
DTSTAMP:20260425T231740
CREATED:20260424T015416Z
LAST-MODIFIED:20260424T015416Z
UID:10002426-1897914600-1897925400@strategicbusinessconnect.com
SUMMARY:Enter Event title here
DESCRIPTION:Enter description here \nBook Now
URL:https://strategicbusinessconnect.com/event/enter-event-title-here/2030-02-21/
LOCATION:Belgravia – Neera Members Club – Habtoor City\, Habtoor\, United Arab Emirates
CATEGORIES:Networking Opportunities
ATTACH;FMTTYPE=image/png:https://strategicbusinessconnect.com/wp-content/uploads/2026/04/refereals.png
END:VEVENT
BEGIN:VEVENT
DTSTART;TZID=UTC:20300228T143000
DTEND;TZID=UTC:20300228T173000
DTSTAMP:20260425T231740
CREATED:20260424T015416Z
LAST-MODIFIED:20260424T015416Z
UID:10002427-1898519400-1898530200@strategicbusinessconnect.com
SUMMARY:Enter Event title here
DESCRIPTION:Enter description here \nBook Now
URL:https://strategicbusinessconnect.com/event/enter-event-title-here/2030-02-28/
LOCATION:Belgravia – Neera Members Club – Habtoor City\, Habtoor\, United Arab Emirates
CATEGORIES:Networking Opportunities
ATTACH;FMTTYPE=image/png:https://strategicbusinessconnect.com/wp-content/uploads/2026/04/refereals.png
END:VEVENT
BEGIN:VEVENT
DTSTART;TZID=UTC:20300307T143000
DTEND;TZID=UTC:20300307T173000
DTSTAMP:20260425T231740
CREATED:20260424T015416Z
LAST-MODIFIED:20260424T015416Z
UID:10002428-1899124200-1899135000@strategicbusinessconnect.com
SUMMARY:Enter Event title here
DESCRIPTION:Enter description here \nBook Now
URL:https://strategicbusinessconnect.com/event/enter-event-title-here/2030-03-07/
LOCATION:Belgravia – Neera Members Club – Habtoor City\, Habtoor\, United Arab Emirates
CATEGORIES:Networking Opportunities
ATTACH;FMTTYPE=image/png:https://strategicbusinessconnect.com/wp-content/uploads/2026/04/refereals.png
END:VEVENT
END:VCALENDAR