BEGIN:VCALENDAR
VERSION:2.0
PRODID:-//SBC - ECPv6.15.12.2//NONSGML v1.0//EN
CALSCALE:GREGORIAN
METHOD:PUBLISH
X-WR-CALNAME:SBC
X-ORIGINAL-URL:https://strategicbusinessconnect.com
X-WR-CALDESC:Events for SBC
REFRESH-INTERVAL;VALUE=DURATION:PT1H
X-Robots-Tag:noindex
X-PUBLISHED-TTL:PT1H
BEGIN:VTIMEZONE
TZID:UTC
BEGIN:STANDARD
TZOFFSETFROM:+0000
TZOFFSETTO:+0000
TZNAME:UTC
DTSTART:20290101T000000
END:STANDARD
END:VTIMEZONE
BEGIN:VEVENT
DTSTART;TZID=UTC:20300103T143000
DTEND;TZID=UTC:20300103T173000
DTSTAMP:20260426T014753
CREATED:20260424T015416Z
LAST-MODIFIED:20260424T015416Z
UID:10002419-1893681000-1893691800@strategicbusinessconnect.com
SUMMARY:Enter Event title here
DESCRIPTION:Enter description here \nBook Now
URL:https://strategicbusinessconnect.com/event/enter-event-title-here/2030-01-03/
LOCATION:Belgravia – Neera Members Club – Habtoor City\, Habtoor\, United Arab Emirates
CATEGORIES:Networking Opportunities
ATTACH;FMTTYPE=image/png:https://strategicbusinessconnect.com/wp-content/uploads/2026/04/refereals.png
END:VEVENT
BEGIN:VEVENT
DTSTART;TZID=UTC:20300110T143000
DTEND;TZID=UTC:20300110T173000
DTSTAMP:20260426T014753
CREATED:20260424T015416Z
LAST-MODIFIED:20260424T015416Z
UID:10002420-1894285800-1894296600@strategicbusinessconnect.com
SUMMARY:Enter Event title here
DESCRIPTION:Enter description here \nBook Now
URL:https://strategicbusinessconnect.com/event/enter-event-title-here/2030-01-10/
LOCATION:Belgravia – Neera Members Club – Habtoor City\, Habtoor\, United Arab Emirates
CATEGORIES:Networking Opportunities
ATTACH;FMTTYPE=image/png:https://strategicbusinessconnect.com/wp-content/uploads/2026/04/refereals.png
END:VEVENT
BEGIN:VEVENT
DTSTART;TZID=UTC:20300117T143000
DTEND;TZID=UTC:20300117T173000
DTSTAMP:20260426T014753
CREATED:20260424T015416Z
LAST-MODIFIED:20260424T015416Z
UID:10002421-1894890600-1894901400@strategicbusinessconnect.com
SUMMARY:Enter Event title here
DESCRIPTION:Enter description here \nBook Now
URL:https://strategicbusinessconnect.com/event/enter-event-title-here/2030-01-17/
LOCATION:Belgravia – Neera Members Club – Habtoor City\, Habtoor\, United Arab Emirates
CATEGORIES:Networking Opportunities
ATTACH;FMTTYPE=image/png:https://strategicbusinessconnect.com/wp-content/uploads/2026/04/refereals.png
END:VEVENT
BEGIN:VEVENT
DTSTART;TZID=UTC:20300124T143000
DTEND;TZID=UTC:20300124T173000
DTSTAMP:20260426T014753
CREATED:20260424T015416Z
LAST-MODIFIED:20260424T015416Z
UID:10002422-1895495400-1895506200@strategicbusinessconnect.com
SUMMARY:Enter Event title here
DESCRIPTION:Enter description here \nBook Now
URL:https://strategicbusinessconnect.com/event/enter-event-title-here/2030-01-24/
LOCATION:Belgravia – Neera Members Club – Habtoor City\, Habtoor\, United Arab Emirates
CATEGORIES:Networking Opportunities
ATTACH;FMTTYPE=image/png:https://strategicbusinessconnect.com/wp-content/uploads/2026/04/refereals.png
END:VEVENT
BEGIN:VEVENT
DTSTART;TZID=UTC:20300131T143000
DTEND;TZID=UTC:20300131T173000
DTSTAMP:20260426T014753
CREATED:20260424T015416Z
LAST-MODIFIED:20260424T015416Z
UID:10002423-1896100200-1896111000@strategicbusinessconnect.com
SUMMARY:Enter Event title here
DESCRIPTION:Enter description here \nBook Now
URL:https://strategicbusinessconnect.com/event/enter-event-title-here/2030-01-31/
LOCATION:Belgravia – Neera Members Club – Habtoor City\, Habtoor\, United Arab Emirates
CATEGORIES:Networking Opportunities
ATTACH;FMTTYPE=image/png:https://strategicbusinessconnect.com/wp-content/uploads/2026/04/refereals.png
END:VEVENT
BEGIN:VEVENT
DTSTART;TZID=UTC:20300207T143000
DTEND;TZID=UTC:20300207T173000
DTSTAMP:20260426T014753
CREATED:20260424T015416Z
LAST-MODIFIED:20260424T015416Z
UID:10002424-1896705000-1896715800@strategicbusinessconnect.com
SUMMARY:Enter Event title here
DESCRIPTION:Enter description here \nBook Now
URL:https://strategicbusinessconnect.com/event/enter-event-title-here/2030-02-07/
LOCATION:Belgravia – Neera Members Club – Habtoor City\, Habtoor\, United Arab Emirates
CATEGORIES:Networking Opportunities
ATTACH;FMTTYPE=image/png:https://strategicbusinessconnect.com/wp-content/uploads/2026/04/refereals.png
END:VEVENT
BEGIN:VEVENT
DTSTART;TZID=UTC:20300214T143000
DTEND;TZID=UTC:20300214T173000
DTSTAMP:20260426T014753
CREATED:20260424T015416Z
LAST-MODIFIED:20260424T015416Z
UID:10002425-1897309800-1897320600@strategicbusinessconnect.com
SUMMARY:Enter Event title here
DESCRIPTION:Enter description here \nBook Now
URL:https://strategicbusinessconnect.com/event/enter-event-title-here/2030-02-14/
LOCATION:Belgravia – Neera Members Club – Habtoor City\, Habtoor\, United Arab Emirates
CATEGORIES:Networking Opportunities
ATTACH;FMTTYPE=image/png:https://strategicbusinessconnect.com/wp-content/uploads/2026/04/refereals.png
END:VEVENT
BEGIN:VEVENT
DTSTART;TZID=UTC:20300221T143000
DTEND;TZID=UTC:20300221T173000
DTSTAMP:20260426T014753
CREATED:20260424T015416Z
LAST-MODIFIED:20260424T015416Z
UID:10002426-1897914600-1897925400@strategicbusinessconnect.com
SUMMARY:Enter Event title here
DESCRIPTION:Enter description here \nBook Now
URL:https://strategicbusinessconnect.com/event/enter-event-title-here/2030-02-21/
LOCATION:Belgravia – Neera Members Club – Habtoor City\, Habtoor\, United Arab Emirates
CATEGORIES:Networking Opportunities
ATTACH;FMTTYPE=image/png:https://strategicbusinessconnect.com/wp-content/uploads/2026/04/refereals.png
END:VEVENT
BEGIN:VEVENT
DTSTART;TZID=UTC:20300228T143000
DTEND;TZID=UTC:20300228T173000
DTSTAMP:20260426T014753
CREATED:20260424T015416Z
LAST-MODIFIED:20260424T015416Z
UID:10002427-1898519400-1898530200@strategicbusinessconnect.com
SUMMARY:Enter Event title here
DESCRIPTION:Enter description here \nBook Now
URL:https://strategicbusinessconnect.com/event/enter-event-title-here/2030-02-28/
LOCATION:Belgravia – Neera Members Club – Habtoor City\, Habtoor\, United Arab Emirates
CATEGORIES:Networking Opportunities
ATTACH;FMTTYPE=image/png:https://strategicbusinessconnect.com/wp-content/uploads/2026/04/refereals.png
END:VEVENT
BEGIN:VEVENT
DTSTART;TZID=UTC:20300307T143000
DTEND;TZID=UTC:20300307T173000
DTSTAMP:20260426T014753
CREATED:20260424T015416Z
LAST-MODIFIED:20260424T015416Z
UID:10002428-1899124200-1899135000@strategicbusinessconnect.com
SUMMARY:Enter Event title here
DESCRIPTION:Enter description here \nBook Now
URL:https://strategicbusinessconnect.com/event/enter-event-title-here/2030-03-07/
LOCATION:Belgravia – Neera Members Club – Habtoor City\, Habtoor\, United Arab Emirates
CATEGORIES:Networking Opportunities
ATTACH;FMTTYPE=image/png:https://strategicbusinessconnect.com/wp-content/uploads/2026/04/refereals.png
END:VEVENT
BEGIN:VEVENT
DTSTART;TZID=UTC:20300314T143000
DTEND;TZID=UTC:20300314T173000
DTSTAMP:20260426T014753
CREATED:20260424T015416Z
LAST-MODIFIED:20260424T015416Z
UID:10002429-1899729000-1899739800@strategicbusinessconnect.com
SUMMARY:Enter Event title here
DESCRIPTION:Enter description here \nBook Now
URL:https://strategicbusinessconnect.com/event/enter-event-title-here/2030-03-14/
LOCATION:Belgravia – Neera Members Club – Habtoor City\, Habtoor\, United Arab Emirates
CATEGORIES:Networking Opportunities
ATTACH;FMTTYPE=image/png:https://strategicbusinessconnect.com/wp-content/uploads/2026/04/refereals.png
END:VEVENT
BEGIN:VEVENT
DTSTART;TZID=UTC:20300321T143000
DTEND;TZID=UTC:20300321T173000
DTSTAMP:20260426T014753
CREATED:20260424T015416Z
LAST-MODIFIED:20260424T015416Z
UID:10002430-1900333800-1900344600@strategicbusinessconnect.com
SUMMARY:Enter Event title here
DESCRIPTION:Enter description here \nBook Now
URL:https://strategicbusinessconnect.com/event/enter-event-title-here/2030-03-21/
LOCATION:Belgravia – Neera Members Club – Habtoor City\, Habtoor\, United Arab Emirates
CATEGORIES:Networking Opportunities
ATTACH;FMTTYPE=image/png:https://strategicbusinessconnect.com/wp-content/uploads/2026/04/refereals.png
END:VEVENT
BEGIN:VEVENT
DTSTART;TZID=UTC:20300328T143000
DTEND;TZID=UTC:20300328T173000
DTSTAMP:20260426T014753
CREATED:20260424T015416Z
LAST-MODIFIED:20260424T015416Z
UID:10002431-1900938600-1900949400@strategicbusinessconnect.com
SUMMARY:Enter Event title here
DESCRIPTION:Enter description here \nBook Now
URL:https://strategicbusinessconnect.com/event/enter-event-title-here/2030-03-28/
LOCATION:Belgravia – Neera Members Club – Habtoor City\, Habtoor\, United Arab Emirates
CATEGORIES:Networking Opportunities
ATTACH;FMTTYPE=image/png:https://strategicbusinessconnect.com/wp-content/uploads/2026/04/refereals.png
END:VEVENT
BEGIN:VEVENT
DTSTART;TZID=UTC:20300404T143000
DTEND;TZID=UTC:20300404T173000
DTSTAMP:20260426T014753
CREATED:20260424T015416Z
LAST-MODIFIED:20260424T015416Z
UID:10002432-1901543400-1901554200@strategicbusinessconnect.com
SUMMARY:Enter Event title here
DESCRIPTION:Enter description here \nBook Now
URL:https://strategicbusinessconnect.com/event/enter-event-title-here/2030-04-04/
LOCATION:Belgravia – Neera Members Club – Habtoor City\, Habtoor\, United Arab Emirates
CATEGORIES:Networking Opportunities
ATTACH;FMTTYPE=image/png:https://strategicbusinessconnect.com/wp-content/uploads/2026/04/refereals.png
END:VEVENT
BEGIN:VEVENT
DTSTART;TZID=UTC:20300411T143000
DTEND;TZID=UTC:20300411T173000
DTSTAMP:20260426T014753
CREATED:20260424T015416Z
LAST-MODIFIED:20260424T015416Z
UID:10002433-1902148200-1902159000@strategicbusinessconnect.com
SUMMARY:Enter Event title here
DESCRIPTION:Enter description here \nBook Now
URL:https://strategicbusinessconnect.com/event/enter-event-title-here/2030-04-11/
LOCATION:Belgravia – Neera Members Club – Habtoor City\, Habtoor\, United Arab Emirates
CATEGORIES:Networking Opportunities
ATTACH;FMTTYPE=image/png:https://strategicbusinessconnect.com/wp-content/uploads/2026/04/refereals.png
END:VEVENT
BEGIN:VEVENT
DTSTART;TZID=UTC:20300418T143000
DTEND;TZID=UTC:20300418T173000
DTSTAMP:20260426T014753
CREATED:20260424T015416Z
LAST-MODIFIED:20260424T015416Z
UID:10002434-1902753000-1902763800@strategicbusinessconnect.com
SUMMARY:Enter Event title here
DESCRIPTION:Enter description here \nBook Now
URL:https://strategicbusinessconnect.com/event/enter-event-title-here/2030-04-18/
LOCATION:Belgravia – Neera Members Club – Habtoor City\, Habtoor\, United Arab Emirates
CATEGORIES:Networking Opportunities
ATTACH;FMTTYPE=image/png:https://strategicbusinessconnect.com/wp-content/uploads/2026/04/refereals.png
END:VEVENT
BEGIN:VEVENT
DTSTART;TZID=UTC:20300425T143000
DTEND;TZID=UTC:20300425T173000
DTSTAMP:20260426T014753
CREATED:20260424T015416Z
LAST-MODIFIED:20260424T015416Z
UID:10002435-1903357800-1903368600@strategicbusinessconnect.com
SUMMARY:Enter Event title here
DESCRIPTION:Enter description here \nBook Now
URL:https://strategicbusinessconnect.com/event/enter-event-title-here/2030-04-25/
LOCATION:Belgravia – Neera Members Club – Habtoor City\, Habtoor\, United Arab Emirates
CATEGORIES:Networking Opportunities
ATTACH;FMTTYPE=image/png:https://strategicbusinessconnect.com/wp-content/uploads/2026/04/refereals.png
END:VEVENT
BEGIN:VEVENT
DTSTART;TZID=UTC:20300502T143000
DTEND;TZID=UTC:20300502T173000
DTSTAMP:20260426T014753
CREATED:20260424T015416Z
LAST-MODIFIED:20260424T015416Z
UID:10002436-1903962600-1903973400@strategicbusinessconnect.com
SUMMARY:Enter Event title here
DESCRIPTION:Enter description here \nBook Now
URL:https://strategicbusinessconnect.com/event/enter-event-title-here/2030-05-02/
LOCATION:Belgravia – Neera Members Club – Habtoor City\, Habtoor\, United Arab Emirates
CATEGORIES:Networking Opportunities
ATTACH;FMTTYPE=image/png:https://strategicbusinessconnect.com/wp-content/uploads/2026/04/refereals.png
END:VEVENT
BEGIN:VEVENT
DTSTART;TZID=UTC:20300509T143000
DTEND;TZID=UTC:20300509T173000
DTSTAMP:20260426T014753
CREATED:20260424T015416Z
LAST-MODIFIED:20260424T015416Z
UID:10002437-1904567400-1904578200@strategicbusinessconnect.com
SUMMARY:Enter Event title here
DESCRIPTION:Enter description here \nBook Now
URL:https://strategicbusinessconnect.com/event/enter-event-title-here/2030-05-09/
LOCATION:Belgravia – Neera Members Club – Habtoor City\, Habtoor\, United Arab Emirates
CATEGORIES:Networking Opportunities
ATTACH;FMTTYPE=image/png:https://strategicbusinessconnect.com/wp-content/uploads/2026/04/refereals.png
END:VEVENT
BEGIN:VEVENT
DTSTART;TZID=UTC:20300516T143000
DTEND;TZID=UTC:20300516T173000
DTSTAMP:20260426T014753
CREATED:20260424T015416Z
LAST-MODIFIED:20260424T015416Z
UID:10002438-1905172200-1905183000@strategicbusinessconnect.com
SUMMARY:Enter Event title here
DESCRIPTION:Enter description here \nBook Now
URL:https://strategicbusinessconnect.com/event/enter-event-title-here/2030-05-16/
LOCATION:Belgravia – Neera Members Club – Habtoor City\, Habtoor\, United Arab Emirates
CATEGORIES:Networking Opportunities
ATTACH;FMTTYPE=image/png:https://strategicbusinessconnect.com/wp-content/uploads/2026/04/refereals.png
END:VEVENT
BEGIN:VEVENT
DTSTART;TZID=UTC:20300523T143000
DTEND;TZID=UTC:20300523T173000
DTSTAMP:20260426T014753
CREATED:20260424T015416Z
LAST-MODIFIED:20260424T015416Z
UID:10002439-1905777000-1905787800@strategicbusinessconnect.com
SUMMARY:Enter Event title here
DESCRIPTION:Enter description here \nBook Now
URL:https://strategicbusinessconnect.com/event/enter-event-title-here/2030-05-23/
LOCATION:Belgravia – Neera Members Club – Habtoor City\, Habtoor\, United Arab Emirates
CATEGORIES:Networking Opportunities
ATTACH;FMTTYPE=image/png:https://strategicbusinessconnect.com/wp-content/uploads/2026/04/refereals.png
END:VEVENT
BEGIN:VEVENT
DTSTART;TZID=UTC:20300530T143000
DTEND;TZID=UTC:20300530T173000
DTSTAMP:20260426T014753
CREATED:20260424T015416Z
LAST-MODIFIED:20260424T015416Z
UID:10002440-1906381800-1906392600@strategicbusinessconnect.com
SUMMARY:Enter Event title here
DESCRIPTION:Enter description here \nBook Now
URL:https://strategicbusinessconnect.com/event/enter-event-title-here/2030-05-30/
LOCATION:Belgravia – Neera Members Club – Habtoor City\, Habtoor\, United Arab Emirates
CATEGORIES:Networking Opportunities
ATTACH;FMTTYPE=image/png:https://strategicbusinessconnect.com/wp-content/uploads/2026/04/refereals.png
END:VEVENT
BEGIN:VEVENT
DTSTART;TZID=UTC:20300606T143000
DTEND;TZID=UTC:20300606T173000
DTSTAMP:20260426T014753
CREATED:20260424T015416Z
LAST-MODIFIED:20260424T015416Z
UID:10002441-1906986600-1906997400@strategicbusinessconnect.com
SUMMARY:Enter Event title here
DESCRIPTION:Enter description here \nBook Now
URL:https://strategicbusinessconnect.com/event/enter-event-title-here/2030-06-06/
LOCATION:Belgravia – Neera Members Club – Habtoor City\, Habtoor\, United Arab Emirates
CATEGORIES:Networking Opportunities
ATTACH;FMTTYPE=image/png:https://strategicbusinessconnect.com/wp-content/uploads/2026/04/refereals.png
END:VEVENT
BEGIN:VEVENT
DTSTART;TZID=UTC:20300613T143000
DTEND;TZID=UTC:20300613T173000
DTSTAMP:20260426T014753
CREATED:20260424T015416Z
LAST-MODIFIED:20260424T015416Z
UID:10002442-1907591400-1907602200@strategicbusinessconnect.com
SUMMARY:Enter Event title here
DESCRIPTION:Enter description here \nBook Now
URL:https://strategicbusinessconnect.com/event/enter-event-title-here/2030-06-13/
LOCATION:Belgravia – Neera Members Club – Habtoor City\, Habtoor\, United Arab Emirates
CATEGORIES:Networking Opportunities
ATTACH;FMTTYPE=image/png:https://strategicbusinessconnect.com/wp-content/uploads/2026/04/refereals.png
END:VEVENT
BEGIN:VEVENT
DTSTART;TZID=UTC:20300620T143000
DTEND;TZID=UTC:20300620T173000
DTSTAMP:20260426T014753
CREATED:20260424T015416Z
LAST-MODIFIED:20260424T015416Z
UID:10002443-1908196200-1908207000@strategicbusinessconnect.com
SUMMARY:Enter Event title here
DESCRIPTION:Enter description here \nBook Now
URL:https://strategicbusinessconnect.com/event/enter-event-title-here/2030-06-20/
LOCATION:Belgravia – Neera Members Club – Habtoor City\, Habtoor\, United Arab Emirates
CATEGORIES:Networking Opportunities
ATTACH;FMTTYPE=image/png:https://strategicbusinessconnect.com/wp-content/uploads/2026/04/refereals.png
END:VEVENT
BEGIN:VEVENT
DTSTART;TZID=UTC:20300627T143000
DTEND;TZID=UTC:20300627T173000
DTSTAMP:20260426T014753
CREATED:20260424T015416Z
LAST-MODIFIED:20260424T015416Z
UID:10002444-1908801000-1908811800@strategicbusinessconnect.com
SUMMARY:Enter Event title here
DESCRIPTION:Enter description here \nBook Now
URL:https://strategicbusinessconnect.com/event/enter-event-title-here/2030-06-27/
LOCATION:Belgravia – Neera Members Club – Habtoor City\, Habtoor\, United Arab Emirates
CATEGORIES:Networking Opportunities
ATTACH;FMTTYPE=image/png:https://strategicbusinessconnect.com/wp-content/uploads/2026/04/refereals.png
END:VEVENT
BEGIN:VEVENT
DTSTART;TZID=UTC:20300704T143000
DTEND;TZID=UTC:20300704T173000
DTSTAMP:20260426T014753
CREATED:20260424T015416Z
LAST-MODIFIED:20260424T015416Z
UID:10002445-1909405800-1909416600@strategicbusinessconnect.com
SUMMARY:Enter Event title here
DESCRIPTION:Enter description here \nBook Now
URL:https://strategicbusinessconnect.com/event/enter-event-title-here/2030-07-04/
LOCATION:Belgravia – Neera Members Club – Habtoor City\, Habtoor\, United Arab Emirates
CATEGORIES:Networking Opportunities
ATTACH;FMTTYPE=image/png:https://strategicbusinessconnect.com/wp-content/uploads/2026/04/refereals.png
END:VEVENT
BEGIN:VEVENT
DTSTART;TZID=UTC:20300711T143000
DTEND;TZID=UTC:20300711T173000
DTSTAMP:20260426T014753
CREATED:20260424T015416Z
LAST-MODIFIED:20260424T015416Z
UID:10002446-1910010600-1910021400@strategicbusinessconnect.com
SUMMARY:Enter Event title here
DESCRIPTION:Enter description here \nBook Now
URL:https://strategicbusinessconnect.com/event/enter-event-title-here/2030-07-11/
LOCATION:Belgravia – Neera Members Club – Habtoor City\, Habtoor\, United Arab Emirates
CATEGORIES:Networking Opportunities
ATTACH;FMTTYPE=image/png:https://strategicbusinessconnect.com/wp-content/uploads/2026/04/refereals.png
END:VEVENT
BEGIN:VEVENT
DTSTART;TZID=UTC:20300718T143000
DTEND;TZID=UTC:20300718T173000
DTSTAMP:20260426T014753
CREATED:20260424T015416Z
LAST-MODIFIED:20260424T015416Z
UID:10002447-1910615400-1910626200@strategicbusinessconnect.com
SUMMARY:Enter Event title here
DESCRIPTION:Enter description here \nBook Now
URL:https://strategicbusinessconnect.com/event/enter-event-title-here/2030-07-18/
LOCATION:Belgravia – Neera Members Club – Habtoor City\, Habtoor\, United Arab Emirates
CATEGORIES:Networking Opportunities
ATTACH;FMTTYPE=image/png:https://strategicbusinessconnect.com/wp-content/uploads/2026/04/refereals.png
END:VEVENT
BEGIN:VEVENT
DTSTART;TZID=UTC:20300725T143000
DTEND;TZID=UTC:20300725T173000
DTSTAMP:20260426T014753
CREATED:20260424T015416Z
LAST-MODIFIED:20260424T015416Z
UID:10002448-1911220200-1911231000@strategicbusinessconnect.com
SUMMARY:Enter Event title here
DESCRIPTION:Enter description here \nBook Now
URL:https://strategicbusinessconnect.com/event/enter-event-title-here/2030-07-25/
LOCATION:Belgravia – Neera Members Club – Habtoor City\, Habtoor\, United Arab Emirates
CATEGORIES:Networking Opportunities
ATTACH;FMTTYPE=image/png:https://strategicbusinessconnect.com/wp-content/uploads/2026/04/refereals.png
END:VEVENT
END:VCALENDAR