BEGIN:VCALENDAR
VERSION:2.0
PRODID:-//SBC - ECPv6.15.12.2//NONSGML v1.0//EN
CALSCALE:GREGORIAN
METHOD:PUBLISH
X-ORIGINAL-URL:https://strategicbusinessconnect.com
X-WR-CALDESC:Events for SBC
REFRESH-INTERVAL;VALUE=DURATION:PT1H
X-Robots-Tag:noindex
X-PUBLISHED-TTL:PT1H
BEGIN:VTIMEZONE
TZID:UTC
BEGIN:STANDARD
TZOFFSETFROM:+0000
TZOFFSETTO:+0000
TZNAME:UTC
DTSTART:20250101T000000
END:STANDARD
END:VTIMEZONE
BEGIN:VEVENT
DTSTART;TZID=UTC:20261210T143000
DTEND;TZID=UTC:20261210T173000
DTSTAMP:20260425T040714
CREATED:20260424T015416Z
LAST-MODIFIED:20260424T015416Z
UID:10002259-1796913000-1796923800@strategicbusinessconnect.com
SUMMARY:Enter Event title here
DESCRIPTION:Enter description here \nBook Now
URL:https://strategicbusinessconnect.com/event/enter-event-title-here/2026-12-10/
LOCATION:Belgravia – Neera Members Club – Habtoor City\, Habtoor\, United Arab Emirates
CATEGORIES:Networking Opportunities
ATTACH;FMTTYPE=image/png:https://strategicbusinessconnect.com/wp-content/uploads/2026/04/refereals.png
END:VEVENT
BEGIN:VEVENT
DTSTART;TZID=UTC:20261217T143000
DTEND;TZID=UTC:20261217T173000
DTSTAMP:20260425T040714
CREATED:20260424T015416Z
LAST-MODIFIED:20260424T015416Z
UID:10002260-1797517800-1797528600@strategicbusinessconnect.com
SUMMARY:Enter Event title here
DESCRIPTION:Enter description here \nBook Now
URL:https://strategicbusinessconnect.com/event/enter-event-title-here/2026-12-17/
LOCATION:Belgravia – Neera Members Club – Habtoor City\, Habtoor\, United Arab Emirates
CATEGORIES:Networking Opportunities
ATTACH;FMTTYPE=image/png:https://strategicbusinessconnect.com/wp-content/uploads/2026/04/refereals.png
END:VEVENT
BEGIN:VEVENT
DTSTART;TZID=UTC:20261224T143000
DTEND;TZID=UTC:20261224T173000
DTSTAMP:20260425T040714
CREATED:20260424T015416Z
LAST-MODIFIED:20260424T015416Z
UID:10002261-1798122600-1798133400@strategicbusinessconnect.com
SUMMARY:Enter Event title here
DESCRIPTION:Enter description here \nBook Now
URL:https://strategicbusinessconnect.com/event/enter-event-title-here/2026-12-24/
LOCATION:Belgravia – Neera Members Club – Habtoor City\, Habtoor\, United Arab Emirates
CATEGORIES:Networking Opportunities
ATTACH;FMTTYPE=image/png:https://strategicbusinessconnect.com/wp-content/uploads/2026/04/refereals.png
END:VEVENT
BEGIN:VEVENT
DTSTART;TZID=UTC:20261231T143000
DTEND;TZID=UTC:20261231T173000
DTSTAMP:20260425T040714
CREATED:20260424T015416Z
LAST-MODIFIED:20260424T015416Z
UID:10002262-1798727400-1798738200@strategicbusinessconnect.com
SUMMARY:Enter Event title here
DESCRIPTION:Enter description here \nBook Now
URL:https://strategicbusinessconnect.com/event/enter-event-title-here/2026-12-31/
LOCATION:Belgravia – Neera Members Club – Habtoor City\, Habtoor\, United Arab Emirates
CATEGORIES:Networking Opportunities
ATTACH;FMTTYPE=image/png:https://strategicbusinessconnect.com/wp-content/uploads/2026/04/refereals.png
END:VEVENT
BEGIN:VEVENT
DTSTART;TZID=UTC:20270107T143000
DTEND;TZID=UTC:20270107T173000
DTSTAMP:20260425T040714
CREATED:20260424T015416Z
LAST-MODIFIED:20260424T015416Z
UID:10002263-1799332200-1799343000@strategicbusinessconnect.com
SUMMARY:Enter Event title here
DESCRIPTION:Enter description here \nBook Now
URL:https://strategicbusinessconnect.com/event/enter-event-title-here/2027-01-07/
LOCATION:Belgravia – Neera Members Club – Habtoor City\, Habtoor\, United Arab Emirates
CATEGORIES:Networking Opportunities
ATTACH;FMTTYPE=image/png:https://strategicbusinessconnect.com/wp-content/uploads/2026/04/refereals.png
END:VEVENT
BEGIN:VEVENT
DTSTART;TZID=UTC:20270114T143000
DTEND;TZID=UTC:20270114T173000
DTSTAMP:20260425T040714
CREATED:20260424T015416Z
LAST-MODIFIED:20260424T015416Z
UID:10002264-1799937000-1799947800@strategicbusinessconnect.com
SUMMARY:Enter Event title here
DESCRIPTION:Enter description here \nBook Now
URL:https://strategicbusinessconnect.com/event/enter-event-title-here/2027-01-14/
LOCATION:Belgravia – Neera Members Club – Habtoor City\, Habtoor\, United Arab Emirates
CATEGORIES:Networking Opportunities
ATTACH;FMTTYPE=image/png:https://strategicbusinessconnect.com/wp-content/uploads/2026/04/refereals.png
END:VEVENT
BEGIN:VEVENT
DTSTART;TZID=UTC:20270121T143000
DTEND;TZID=UTC:20270121T173000
DTSTAMP:20260425T040714
CREATED:20260424T015416Z
LAST-MODIFIED:20260424T015416Z
UID:10002265-1800541800-1800552600@strategicbusinessconnect.com
SUMMARY:Enter Event title here
DESCRIPTION:Enter description here \nBook Now
URL:https://strategicbusinessconnect.com/event/enter-event-title-here/2027-01-21/
LOCATION:Belgravia – Neera Members Club – Habtoor City\, Habtoor\, United Arab Emirates
CATEGORIES:Networking Opportunities
ATTACH;FMTTYPE=image/png:https://strategicbusinessconnect.com/wp-content/uploads/2026/04/refereals.png
END:VEVENT
BEGIN:VEVENT
DTSTART;TZID=UTC:20270128T143000
DTEND;TZID=UTC:20270128T173000
DTSTAMP:20260425T040714
CREATED:20260424T015416Z
LAST-MODIFIED:20260424T015416Z
UID:10002266-1801146600-1801157400@strategicbusinessconnect.com
SUMMARY:Enter Event title here
DESCRIPTION:Enter description here \nBook Now
URL:https://strategicbusinessconnect.com/event/enter-event-title-here/2027-01-28/
LOCATION:Belgravia – Neera Members Club – Habtoor City\, Habtoor\, United Arab Emirates
CATEGORIES:Networking Opportunities
ATTACH;FMTTYPE=image/png:https://strategicbusinessconnect.com/wp-content/uploads/2026/04/refereals.png
END:VEVENT
BEGIN:VEVENT
DTSTART;TZID=UTC:20270204T143000
DTEND;TZID=UTC:20270204T173000
DTSTAMP:20260425T040714
CREATED:20260424T015416Z
LAST-MODIFIED:20260424T015416Z
UID:10002267-1801751400-1801762200@strategicbusinessconnect.com
SUMMARY:Enter Event title here
DESCRIPTION:Enter description here \nBook Now
URL:https://strategicbusinessconnect.com/event/enter-event-title-here/2027-02-04/
LOCATION:Belgravia – Neera Members Club – Habtoor City\, Habtoor\, United Arab Emirates
CATEGORIES:Networking Opportunities
ATTACH;FMTTYPE=image/png:https://strategicbusinessconnect.com/wp-content/uploads/2026/04/refereals.png
END:VEVENT
BEGIN:VEVENT
DTSTART;TZID=UTC:20270211T143000
DTEND;TZID=UTC:20270211T173000
DTSTAMP:20260425T040714
CREATED:20260424T015416Z
LAST-MODIFIED:20260424T015416Z
UID:10002268-1802356200-1802367000@strategicbusinessconnect.com
SUMMARY:Enter Event title here
DESCRIPTION:Enter description here \nBook Now
URL:https://strategicbusinessconnect.com/event/enter-event-title-here/2027-02-11/
LOCATION:Belgravia – Neera Members Club – Habtoor City\, Habtoor\, United Arab Emirates
CATEGORIES:Networking Opportunities
ATTACH;FMTTYPE=image/png:https://strategicbusinessconnect.com/wp-content/uploads/2026/04/refereals.png
END:VEVENT
BEGIN:VEVENT
DTSTART;TZID=UTC:20270218T143000
DTEND;TZID=UTC:20270218T173000
DTSTAMP:20260425T040714
CREATED:20260424T015416Z
LAST-MODIFIED:20260424T015416Z
UID:10002269-1802961000-1802971800@strategicbusinessconnect.com
SUMMARY:Enter Event title here
DESCRIPTION:Enter description here \nBook Now
URL:https://strategicbusinessconnect.com/event/enter-event-title-here/2027-02-18/
LOCATION:Belgravia – Neera Members Club – Habtoor City\, Habtoor\, United Arab Emirates
CATEGORIES:Networking Opportunities
ATTACH;FMTTYPE=image/png:https://strategicbusinessconnect.com/wp-content/uploads/2026/04/refereals.png
END:VEVENT
BEGIN:VEVENT
DTSTART;TZID=UTC:20270225T143000
DTEND;TZID=UTC:20270225T173000
DTSTAMP:20260425T040714
CREATED:20260424T015416Z
LAST-MODIFIED:20260424T015416Z
UID:10002270-1803565800-1803576600@strategicbusinessconnect.com
SUMMARY:Enter Event title here
DESCRIPTION:Enter description here \nBook Now
URL:https://strategicbusinessconnect.com/event/enter-event-title-here/2027-02-25/
LOCATION:Belgravia – Neera Members Club – Habtoor City\, Habtoor\, United Arab Emirates
CATEGORIES:Networking Opportunities
ATTACH;FMTTYPE=image/png:https://strategicbusinessconnect.com/wp-content/uploads/2026/04/refereals.png
END:VEVENT
BEGIN:VEVENT
DTSTART;TZID=UTC:20270304T143000
DTEND;TZID=UTC:20270304T173000
DTSTAMP:20260425T040714
CREATED:20260424T015416Z
LAST-MODIFIED:20260424T015416Z
UID:10002271-1804170600-1804181400@strategicbusinessconnect.com
SUMMARY:Enter Event title here
DESCRIPTION:Enter description here \nBook Now
URL:https://strategicbusinessconnect.com/event/enter-event-title-here/2027-03-04/
LOCATION:Belgravia – Neera Members Club – Habtoor City\, Habtoor\, United Arab Emirates
CATEGORIES:Networking Opportunities
ATTACH;FMTTYPE=image/png:https://strategicbusinessconnect.com/wp-content/uploads/2026/04/refereals.png
END:VEVENT
BEGIN:VEVENT
DTSTART;TZID=UTC:20270311T143000
DTEND;TZID=UTC:20270311T173000
DTSTAMP:20260425T040714
CREATED:20260424T015416Z
LAST-MODIFIED:20260424T015416Z
UID:10002272-1804775400-1804786200@strategicbusinessconnect.com
SUMMARY:Enter Event title here
DESCRIPTION:Enter description here \nBook Now
URL:https://strategicbusinessconnect.com/event/enter-event-title-here/2027-03-11/
LOCATION:Belgravia – Neera Members Club – Habtoor City\, Habtoor\, United Arab Emirates
CATEGORIES:Networking Opportunities
ATTACH;FMTTYPE=image/png:https://strategicbusinessconnect.com/wp-content/uploads/2026/04/refereals.png
END:VEVENT
BEGIN:VEVENT
DTSTART;TZID=UTC:20270318T143000
DTEND;TZID=UTC:20270318T173000
DTSTAMP:20260425T040714
CREATED:20260424T015416Z
LAST-MODIFIED:20260424T015416Z
UID:10002273-1805380200-1805391000@strategicbusinessconnect.com
SUMMARY:Enter Event title here
DESCRIPTION:Enter description here \nBook Now
URL:https://strategicbusinessconnect.com/event/enter-event-title-here/2027-03-18/
LOCATION:Belgravia – Neera Members Club – Habtoor City\, Habtoor\, United Arab Emirates
CATEGORIES:Networking Opportunities
ATTACH;FMTTYPE=image/png:https://strategicbusinessconnect.com/wp-content/uploads/2026/04/refereals.png
END:VEVENT
BEGIN:VEVENT
DTSTART;TZID=UTC:20270325T143000
DTEND;TZID=UTC:20270325T173000
DTSTAMP:20260425T040715
CREATED:20260424T015416Z
LAST-MODIFIED:20260424T015416Z
UID:10002274-1805985000-1805995800@strategicbusinessconnect.com
SUMMARY:Enter Event title here
DESCRIPTION:Enter description here \nBook Now
URL:https://strategicbusinessconnect.com/event/enter-event-title-here/2027-03-25/
LOCATION:Belgravia – Neera Members Club – Habtoor City\, Habtoor\, United Arab Emirates
CATEGORIES:Networking Opportunities
ATTACH;FMTTYPE=image/png:https://strategicbusinessconnect.com/wp-content/uploads/2026/04/refereals.png
END:VEVENT
BEGIN:VEVENT
DTSTART;TZID=UTC:20270401T143000
DTEND;TZID=UTC:20270401T173000
DTSTAMP:20260425T040715
CREATED:20260424T015416Z
LAST-MODIFIED:20260424T015416Z
UID:10002275-1806589800-1806600600@strategicbusinessconnect.com
SUMMARY:Enter Event title here
DESCRIPTION:Enter description here \nBook Now
URL:https://strategicbusinessconnect.com/event/enter-event-title-here/2027-04-01/
LOCATION:Belgravia – Neera Members Club – Habtoor City\, Habtoor\, United Arab Emirates
CATEGORIES:Networking Opportunities
ATTACH;FMTTYPE=image/png:https://strategicbusinessconnect.com/wp-content/uploads/2026/04/refereals.png
END:VEVENT
BEGIN:VEVENT
DTSTART;TZID=UTC:20270408T143000
DTEND;TZID=UTC:20270408T173000
DTSTAMP:20260425T040715
CREATED:20260424T015416Z
LAST-MODIFIED:20260424T015416Z
UID:10002276-1807194600-1807205400@strategicbusinessconnect.com
SUMMARY:Enter Event title here
DESCRIPTION:Enter description here \nBook Now
URL:https://strategicbusinessconnect.com/event/enter-event-title-here/2027-04-08/
LOCATION:Belgravia – Neera Members Club – Habtoor City\, Habtoor\, United Arab Emirates
CATEGORIES:Networking Opportunities
ATTACH;FMTTYPE=image/png:https://strategicbusinessconnect.com/wp-content/uploads/2026/04/refereals.png
END:VEVENT
BEGIN:VEVENT
DTSTART;TZID=UTC:20270415T143000
DTEND;TZID=UTC:20270415T173000
DTSTAMP:20260425T040715
CREATED:20260424T015416Z
LAST-MODIFIED:20260424T015416Z
UID:10002277-1807799400-1807810200@strategicbusinessconnect.com
SUMMARY:Enter Event title here
DESCRIPTION:Enter description here \nBook Now
URL:https://strategicbusinessconnect.com/event/enter-event-title-here/2027-04-15/
LOCATION:Belgravia – Neera Members Club – Habtoor City\, Habtoor\, United Arab Emirates
CATEGORIES:Networking Opportunities
ATTACH;FMTTYPE=image/png:https://strategicbusinessconnect.com/wp-content/uploads/2026/04/refereals.png
END:VEVENT
BEGIN:VEVENT
DTSTART;TZID=UTC:20270422T143000
DTEND;TZID=UTC:20270422T173000
DTSTAMP:20260425T040715
CREATED:20260424T015416Z
LAST-MODIFIED:20260424T015416Z
UID:10002278-1808404200-1808415000@strategicbusinessconnect.com
SUMMARY:Enter Event title here
DESCRIPTION:Enter description here \nBook Now
URL:https://strategicbusinessconnect.com/event/enter-event-title-here/2027-04-22/
LOCATION:Belgravia – Neera Members Club – Habtoor City\, Habtoor\, United Arab Emirates
CATEGORIES:Networking Opportunities
ATTACH;FMTTYPE=image/png:https://strategicbusinessconnect.com/wp-content/uploads/2026/04/refereals.png
END:VEVENT
BEGIN:VEVENT
DTSTART;TZID=UTC:20270429T143000
DTEND;TZID=UTC:20270429T173000
DTSTAMP:20260425T040715
CREATED:20260424T015416Z
LAST-MODIFIED:20260424T015416Z
UID:10002279-1809009000-1809019800@strategicbusinessconnect.com
SUMMARY:Enter Event title here
DESCRIPTION:Enter description here \nBook Now
URL:https://strategicbusinessconnect.com/event/enter-event-title-here/2027-04-29/
LOCATION:Belgravia – Neera Members Club – Habtoor City\, Habtoor\, United Arab Emirates
CATEGORIES:Networking Opportunities
ATTACH;FMTTYPE=image/png:https://strategicbusinessconnect.com/wp-content/uploads/2026/04/refereals.png
END:VEVENT
BEGIN:VEVENT
DTSTART;TZID=UTC:20270506T143000
DTEND;TZID=UTC:20270506T173000
DTSTAMP:20260425T040715
CREATED:20260424T015416Z
LAST-MODIFIED:20260424T015416Z
UID:10002280-1809613800-1809624600@strategicbusinessconnect.com
SUMMARY:Enter Event title here
DESCRIPTION:Enter description here \nBook Now
URL:https://strategicbusinessconnect.com/event/enter-event-title-here/2027-05-06/
LOCATION:Belgravia – Neera Members Club – Habtoor City\, Habtoor\, United Arab Emirates
CATEGORIES:Networking Opportunities
ATTACH;FMTTYPE=image/png:https://strategicbusinessconnect.com/wp-content/uploads/2026/04/refereals.png
END:VEVENT
BEGIN:VEVENT
DTSTART;TZID=UTC:20270513T143000
DTEND;TZID=UTC:20270513T173000
DTSTAMP:20260425T040715
CREATED:20260424T015416Z
LAST-MODIFIED:20260424T015416Z
UID:10002281-1810218600-1810229400@strategicbusinessconnect.com
SUMMARY:Enter Event title here
DESCRIPTION:Enter description here \nBook Now
URL:https://strategicbusinessconnect.com/event/enter-event-title-here/2027-05-13/
LOCATION:Belgravia – Neera Members Club – Habtoor City\, Habtoor\, United Arab Emirates
CATEGORIES:Networking Opportunities
ATTACH;FMTTYPE=image/png:https://strategicbusinessconnect.com/wp-content/uploads/2026/04/refereals.png
END:VEVENT
BEGIN:VEVENT
DTSTART;TZID=UTC:20270520T143000
DTEND;TZID=UTC:20270520T173000
DTSTAMP:20260425T040715
CREATED:20260424T015416Z
LAST-MODIFIED:20260424T015416Z
UID:10002282-1810823400-1810834200@strategicbusinessconnect.com
SUMMARY:Enter Event title here
DESCRIPTION:Enter description here \nBook Now
URL:https://strategicbusinessconnect.com/event/enter-event-title-here/2027-05-20/
LOCATION:Belgravia – Neera Members Club – Habtoor City\, Habtoor\, United Arab Emirates
CATEGORIES:Networking Opportunities
ATTACH;FMTTYPE=image/png:https://strategicbusinessconnect.com/wp-content/uploads/2026/04/refereals.png
END:VEVENT
BEGIN:VEVENT
DTSTART;TZID=UTC:20270527T143000
DTEND;TZID=UTC:20270527T173000
DTSTAMP:20260425T040715
CREATED:20260424T015416Z
LAST-MODIFIED:20260424T015416Z
UID:10002283-1811428200-1811439000@strategicbusinessconnect.com
SUMMARY:Enter Event title here
DESCRIPTION:Enter description here \nBook Now
URL:https://strategicbusinessconnect.com/event/enter-event-title-here/2027-05-27/
LOCATION:Belgravia – Neera Members Club – Habtoor City\, Habtoor\, United Arab Emirates
CATEGORIES:Networking Opportunities
ATTACH;FMTTYPE=image/png:https://strategicbusinessconnect.com/wp-content/uploads/2026/04/refereals.png
END:VEVENT
BEGIN:VEVENT
DTSTART;TZID=UTC:20270603T143000
DTEND;TZID=UTC:20270603T173000
DTSTAMP:20260425T040715
CREATED:20260424T015416Z
LAST-MODIFIED:20260424T015416Z
UID:10002284-1812033000-1812043800@strategicbusinessconnect.com
SUMMARY:Enter Event title here
DESCRIPTION:Enter description here \nBook Now
URL:https://strategicbusinessconnect.com/event/enter-event-title-here/2027-06-03/
LOCATION:Belgravia – Neera Members Club – Habtoor City\, Habtoor\, United Arab Emirates
CATEGORIES:Networking Opportunities
ATTACH;FMTTYPE=image/png:https://strategicbusinessconnect.com/wp-content/uploads/2026/04/refereals.png
END:VEVENT
BEGIN:VEVENT
DTSTART;TZID=UTC:20270610T143000
DTEND;TZID=UTC:20270610T173000
DTSTAMP:20260425T040715
CREATED:20260424T015416Z
LAST-MODIFIED:20260424T015416Z
UID:10002285-1812637800-1812648600@strategicbusinessconnect.com
SUMMARY:Enter Event title here
DESCRIPTION:Enter description here \nBook Now
URL:https://strategicbusinessconnect.com/event/enter-event-title-here/2027-06-10/
LOCATION:Belgravia – Neera Members Club – Habtoor City\, Habtoor\, United Arab Emirates
CATEGORIES:Networking Opportunities
ATTACH;FMTTYPE=image/png:https://strategicbusinessconnect.com/wp-content/uploads/2026/04/refereals.png
END:VEVENT
BEGIN:VEVENT
DTSTART;TZID=UTC:20270617T143000
DTEND;TZID=UTC:20270617T173000
DTSTAMP:20260425T040715
CREATED:20260424T015416Z
LAST-MODIFIED:20260424T015416Z
UID:10002286-1813242600-1813253400@strategicbusinessconnect.com
SUMMARY:Enter Event title here
DESCRIPTION:Enter description here \nBook Now
URL:https://strategicbusinessconnect.com/event/enter-event-title-here/2027-06-17/
LOCATION:Belgravia – Neera Members Club – Habtoor City\, Habtoor\, United Arab Emirates
CATEGORIES:Networking Opportunities
ATTACH;FMTTYPE=image/png:https://strategicbusinessconnect.com/wp-content/uploads/2026/04/refereals.png
END:VEVENT
BEGIN:VEVENT
DTSTART;TZID=UTC:20270624T143000
DTEND;TZID=UTC:20270624T173000
DTSTAMP:20260425T040715
CREATED:20260424T015416Z
LAST-MODIFIED:20260424T015416Z
UID:10002287-1813847400-1813858200@strategicbusinessconnect.com
SUMMARY:Enter Event title here
DESCRIPTION:Enter description here \nBook Now
URL:https://strategicbusinessconnect.com/event/enter-event-title-here/2027-06-24/
LOCATION:Belgravia – Neera Members Club – Habtoor City\, Habtoor\, United Arab Emirates
CATEGORIES:Networking Opportunities
ATTACH;FMTTYPE=image/png:https://strategicbusinessconnect.com/wp-content/uploads/2026/04/refereals.png
END:VEVENT
BEGIN:VEVENT
DTSTART;TZID=UTC:20270701T143000
DTEND;TZID=UTC:20270701T173000
DTSTAMP:20260425T040715
CREATED:20260424T015416Z
LAST-MODIFIED:20260424T015416Z
UID:10002288-1814452200-1814463000@strategicbusinessconnect.com
SUMMARY:Enter Event title here
DESCRIPTION:Enter description here \nBook Now
URL:https://strategicbusinessconnect.com/event/enter-event-title-here/2027-07-01/
LOCATION:Belgravia – Neera Members Club – Habtoor City\, Habtoor\, United Arab Emirates
CATEGORIES:Networking Opportunities
ATTACH;FMTTYPE=image/png:https://strategicbusinessconnect.com/wp-content/uploads/2026/04/refereals.png
END:VEVENT
END:VCALENDAR