BEGIN:VCALENDAR
VERSION:2.0
PRODID:-//SBC - ECPv6.15.12.2//NONSGML v1.0//EN
CALSCALE:GREGORIAN
METHOD:PUBLISH
X-WR-CALNAME:SBC
X-ORIGINAL-URL:https://strategicbusinessconnect.com
X-WR-CALDESC:Events for SBC
REFRESH-INTERVAL;VALUE=DURATION:PT1H
X-Robots-Tag:noindex
X-PUBLISHED-TTL:PT1H
BEGIN:VTIMEZONE
TZID:Asia/Dubai
BEGIN:STANDARD
TZOFFSETFROM:+0400
TZOFFSETTO:+0400
TZNAME:+04
DTSTART:20250101T000000
END:STANDARD
END:VTIMEZONE
BEGIN:VEVENT
DTSTART;TZID=Asia/Dubai:20260603T083000
DTEND;TZID=Asia/Dubai:20260603T103000
DTSTAMP:20260425T082127
CREATED:20260423T234210Z
LAST-MODIFIED:20260423T234246Z
UID:10001712-1780475400-1780482600@strategicbusinessconnect.com
SUMMARY:SBC Mixed Small Business Exclusive Deep Dive
DESCRIPTION:What is SBC Exclusive Deep Dive? \nI love SBC- Neil Hamp Adams \nTired of going to networking events where you walk away having only met a hand full of people and feel like you missed most of the opportunities? I met clients\, testimonial by Mohamed Rizk\nTired of feeling uncomfortable – (Why I love it testimonial from Mandy Priestley)\nTired of not knowing what to say?\nTired of speakers taking up your valuable networking time? \nMaximise your networking\, and meet everyone in the room. Have fun with warm\, connected people and get more results through our proven Super Connect process!\nMeet Potential Clients\nMeet Potential Suppliers\nMeet Collaborative Professionals\nMeet Great People \nWe love it as well \nAbhishek Chatterjee \nDina Chauhan \nYujin Koola \nBook Now
URL:https://strategicbusinessconnect.com/event/sbc-mixed-small-business-exclusive-deep-dive-june/
LOCATION:Ciao Bella! Media One Hotel\, Media 1 Tower\, Dubai Media City\,Plot No. 1 - Al Sufouh - Al\, Sufouh 2 - Dubai\, United Arab Emirates
CATEGORIES:Networking Opportunities
ATTACH;FMTTYPE=image/png:https://strategicbusinessconnect.com/wp-content/uploads/2025/05/general.png
END:VEVENT
BEGIN:VEVENT
DTSTART;TZID=Asia/Dubai:20260605T083000
DTEND;TZID=Asia/Dubai:20260605T103000
DTSTAMP:20260425T082127
CREATED:20260423T234440Z
LAST-MODIFIED:20260423T234503Z
UID:10001713-1780648200-1780655400@strategicbusinessconnect.com
SUMMARY:SBC Speakers\, Authors\, Podcasters & Trainers Deep Dive
DESCRIPTION:🚀 Elevate Your Influence – Exclusive Networking for Speakers\, Authors & Trainers! \nAre you ready to network UP and connect with high-caliber experts who can open doors to new opportunities? This isn’t just another networking event—it’s a curated gathering of like-minded professionals where every connection counts. \n🔹 Expand Your Knowledge – Exchange insights with top speakers\, authors\, and trainers.\n🔹 Unlock New Business Opportunities – Collaborate\, share ideas\, and discover potential partnerships.\n🔹 Boost Your Referrals & Visibility – Build relationships with industry peers who can recommend and elevate you. \nWhat makes this event different? Limited attendance ensures you meet everyone\, eliminating wasted time and maximizing real results. No missed connections—just powerful conversations that matter. \n📅 Secure Your Spot Now – Spaces Are Limited! \nLet’s build powerful connections and grow together. \n\nGet and give advice\nBuild collaborations\nBuild your contact base\nMeet clients and suppliers\n\nBook Now
URL:https://strategicbusinessconnect.com/event/sbc-speakers-authors-podcasters-trainers-deep-dive-june/
LOCATION:Ciao Bella! Media One Hotel\, Media 1 Tower\, Dubai Media City\,Plot No. 1 - Al Sufouh - Al\, Sufouh 2 - Dubai\, United Arab Emirates
CATEGORIES:Networking Opportunities
ATTACH;FMTTYPE=image/png:https://strategicbusinessconnect.com/wp-content/uploads/2025/05/SBC-Speakers-3-.png
END:VEVENT
BEGIN:VEVENT
DTSTART;TZID=Asia/Dubai:20260610T083000
DTEND;TZID=Asia/Dubai:20260610T103000
DTSTAMP:20260425T082127
CREATED:20260423T234737Z
LAST-MODIFIED:20260424T003102Z
UID:10001714-1781080200-1781087400@strategicbusinessconnect.com
SUMMARY:SBC Law\, Finance\, Real Estate and Biz Services Connect
DESCRIPTION:Calling all Law\, Finance\, Real Estate and Business Service providers! \nStart your morning off with a power-packed networking event designed exclusively for professionals in the legal\, finance\, and business service and consulting industries. \nThis event offers a unique opportunity to connect with fellow professionals from the law\, finance\, and business consulting sectors. Whether you’re a lawyer\, financial controller\, financial advisor\, accountant\, business strategist\, HR Consultant\, service provider\, or management consultant\, this is the perfect platform to expand your network\, foster valuable relationships and discover potential collaboration opportunities. It’s also an ideal environment to deepen your understanding of how these fields complement each other and drive business success. \nThe session format is designed to be systematic and effective\, guaranteeing efficiency and delivering results. It benefits even those who may not feel naturally at ease in networking environments. \nEnjoy your favourite morning drinks and tasty breakfast treats as you network and connect with like-minded professionals in a relaxed and welcoming atmosphere. \nThis event is open to both seasoned practitioners and aspiring professionals in the law\, finance\, and business consulting industries. \nWe look forward to seeing you at this inspiring networking event\, where the power of collaboration and knowledge-sharing awaits. \nBook Now
URL:https://strategicbusinessconnect.com/event/sbc-law-finance-real-estate-and-biz-services-connect/
LOCATION:Ciao Bella! Media One Hotel\, Media 1 Tower\, Dubai Media City\,Plot No. 1 - Al Sufouh - Al\, Sufouh 2 - Dubai\, United Arab Emirates
CATEGORIES:Business
ATTACH;FMTTYPE=image/png:https://strategicbusinessconnect.com/wp-content/uploads/2025/05/Law-Finance-and-consulting-pic.png
END:VEVENT
BEGIN:VEVENT
DTSTART;TZID=Asia/Dubai:20260617T083000
DTEND;TZID=Asia/Dubai:20260617T103000
DTSTAMP:20260425T082127
CREATED:20260423T235339Z
LAST-MODIFIED:20260423T235433Z
UID:10001716-1781685000-1781692200@strategicbusinessconnect.com
SUMMARY:SBC Sports\, Well-being & Coaching Deep Dive
DESCRIPTION:Join us for an exciting networking event designed for health\, wellbeing\, sports\, and coaching enthusiasts! \nWhether you’re a professional in the field\, an avid health advocate\, or simply passionate about wellness\, this event is the perfect opportunity to connect with like-minded individuals. \nShare ideas\, explore collaborations\, and expand your network in a productive and inspiring atmosphere. Together\, let’s champion health\, inspire growth\, and build a thriving community dedicated to wellbeing and success! \nNumbers are limited to under 20pax to ensure everyone meets everyone and you have the time to develop opportunities. \nOn the days when the number may drop below 16\, we move into an even more powerful format\, “The SBC Deep Dive”\, which tends to generate even more results. \nThis is NOT normal spray and pray networking. \nBook Now
URL:https://strategicbusinessconnect.com/event/sbc-sports-well-being-coaching-deep-dive-june/
LOCATION:Ciao Bella! Media One Hotel\, Media 1 Tower\, Dubai Media City\,Plot No. 1 - Al Sufouh - Al\, Sufouh 2 - Dubai\, United Arab Emirates
CATEGORIES:Networking Opportunities
ATTACH;FMTTYPE=image/png:https://strategicbusinessconnect.com/wp-content/uploads/2025/05/health-sports.png
END:VEVENT
BEGIN:VEVENT
DTSTART;TZID=Asia/Dubai:20260618T083000
DTEND;TZID=Asia/Dubai:20260618T103000
DTSTAMP:20260425T082127
CREATED:20250506T080601Z
LAST-MODIFIED:20260424T000017Z
UID:10000037-1781771400-1781778600@strategicbusinessconnect.com
SUMMARY:MIXER - SBC Hospitality\, Retail\, Tourism\, Logistics +  Fashion & Arts - Super Connect " Deep Dive"
DESCRIPTION:Join us for this exciting networking mixer which combines SBC Fashion and Arts with SBC Hospitality\, Retail and Logistics —a special opportunity for professionals in these industries to connect\, collaborate\, and inspire one another. \nThis in-person gathering is designed to help you meet everyone on both a personal and professional level\, fostering meaningful relationships in a supportive and productive environment. \nCome and explore exciting partnerships\, exchange ideas\, and discuss potential collaborations while enjoying delicious coffee and light breakfast treats. \nWhether you’re a designer\, supplier or creative entrepreneur\, this event offers the perfect platform to grow your personal and professional network\, spark new opportunities\, and build lasting connections. \nDon’t miss the chance to engage with your peers and take your career to the next level in a friendly\, creative atmosphere! \nThanks to our Sponsors: \n\nTable and Beyond\nSocio Loca\nThis is me Sneakers\n\nBook Now
URL:https://strategicbusinessconnect.com/event/mixer-sbc-hospitality-retail-tourism-logistics-fashion-arts-super-connect-deep-dive/
LOCATION:Ciao Bella! Media One Hotel\, Media 1 Tower\, Dubai Media City\,Plot No. 1 - Al Sufouh - Al\, Sufouh 2 - Dubai\, United Arab Emirates
CATEGORIES:Networking Opportunities
ATTACH;FMTTYPE=image/png:https://strategicbusinessconnect.com/wp-content/uploads/2025/05/mixer-hospitality.png
END:VEVENT
BEGIN:VEVENT
DTSTART;TZID=Asia/Dubai:20260619T083000
DTEND;TZID=Asia/Dubai:20260619T103000
DTSTAMP:20260425T082127
CREATED:20260424T000214Z
LAST-MODIFIED:20260424T000257Z
UID:10001717-1781857800-1781865000@strategicbusinessconnect.com
SUMMARY:SBC Design & Build + Eng - Deep Dive
DESCRIPTION:Join us for a dynamic networking event designed exclusively for business owners and professionals in Construction\, Design\, Real Estate\, and Consulting. This MIXER is your opportunity to expand your network\, build valuable connections\, and engage with industry peers in a productive and supportive environment. \nWe know your time is valuable\, so we focus on making every interaction meaningful. Whether you’re an experienced entrepreneur\, an emerging professional\, or a consultant seeking new opportunities\, this event provides the perfect platform to connect with like-minded individuals who share your passion. \nBook Now
URL:https://strategicbusinessconnect.com/event/sbc-design-build-eng-deep-dive-june/
LOCATION:Ciao Bella! Media One Hotel\, Media 1 Tower\, Dubai Media City\,Plot No. 1 - Al Sufouh - Al\, Sufouh 2 - Dubai\, United Arab Emirates
CATEGORIES:Networking Opportunities
ATTACH;FMTTYPE=image/png:https://strategicbusinessconnect.com/wp-content/uploads/2025/05/SBC-Construction-and-SBC-tech-BOUNZ-12-.png
END:VEVENT
BEGIN:VEVENT
DTSTART;TZID=Asia/Dubai:20260623T083000
DTEND;TZID=Asia/Dubai:20260623T103000
DTSTAMP:20260425T082127
CREATED:20260424T000420Z
LAST-MODIFIED:20260424T003321Z
UID:10001718-1782203400-1782210600@strategicbusinessconnect.com
SUMMARY:SBC Mixed Small Business Exclusive Deep Dive
DESCRIPTION:What is SBC Exclusive Deep Dive? \nI love SBC- Neil Hamp Adams \n\nTired of going to networking events where you walk away having only met a hand full of people and feel like you missed most of the opportunities? I met clients\, testimonial by Mohamed Rizk\nTired of feeling uncomfortable – (Why I love it testimonial from Mandy Priestley)\nTired of not knowing what to say?\nTired of speakers taking up your valuable networking time?\n\nMaximise your networking\, and meet everyone in the room. Have fun with warm\, connected people and get more results through our proven Super Connect process! \n\nMeet Potential Clients\nMeet Potential Suppliers\nMeet Collaborative Professionals\nMeet Great People\n\nWe love it as well \nAbhishek Chatterjee \nDina Chauhan \nYujin Koola \nBook Now
URL:https://strategicbusinessconnect.com/event/sbc-mixed-small-business-exclusive-deep-dive-3/
LOCATION:Ciao Bella! Media One Hotel\, Media 1 Tower\, Dubai Media City\,Plot No. 1 - Al Sufouh - Al\, Sufouh 2 - Dubai\, United Arab Emirates
CATEGORIES:Networking Opportunities
ATTACH;FMTTYPE=image/png:https://strategicbusinessconnect.com/wp-content/uploads/2025/05/general.png
END:VEVENT
BEGIN:VEVENT
DTSTART;TZID=Asia/Dubai:20260625T084500
DTEND;TZID=Asia/Dubai:20260625T104500
DTSTAMP:20260425T082127
CREATED:20260424T000747Z
LAST-MODIFIED:20260424T000824Z
UID:10001720-1782377100-1782384300@strategicbusinessconnect.com
SUMMARY:SBC She Connects
DESCRIPTION:Women Only \nIf you are a female business owner who understands the value and importance of relationship marketing but has limited time for networking\, then She Connects is for you! \nThis session takes place in a warm\, friendly environment that is focused and result driven. Owners from a range of industries are invited. \nYou will need to be prepared to introduce yourself and your company and will also have the opportunity to ask for a connection/introduction that will help you NOW! \nBook Now
URL:https://strategicbusinessconnect.com/event/sbc-she-connects-june/
LOCATION:Ciao Bella! Media One Hotel\, Media 1 Tower\, Dubai Media City\,Plot No. 1 - Al Sufouh - Al\, Sufouh 2 - Dubai\, United Arab Emirates
CATEGORIES:Networking Opportunities
ATTACH;FMTTYPE=image/png:https://strategicbusinessconnect.com/wp-content/uploads/2025/05/SBC-Law-and-mixer-10-.png
END:VEVENT
BEGIN:VEVENT
DTSTART;TZID=Asia/Dubai:20260626T083000
DTEND;TZID=Asia/Dubai:20260626T103000
DTSTAMP:20260425T082127
CREATED:20260424T001635Z
LAST-MODIFIED:20260424T002057Z
UID:10001721-1782462600-1782469800@strategicbusinessconnect.com
SUMMARY:SBC Media + Tech\,  AI Exclusive Deep Dive
DESCRIPTION:Join us for an exceptional networking event tailored specifically for business owners and professionals in Tech\, Marketing\, Branding\, Events\, and PR! This dynamic gathering is perfect for those looking to elevate their brand presence\, forge meaningful connections\, and explore collaborations that amplify visibility and impact. \nWhether you’re an industry leader or just starting your journey\, this event offers a unique platform to exchange ideas\, foster relationships\, and build a thriving community of like-minded professionals. Connect with marketing managers\, branding experts\, PR executives\, and innovative business owners who share your passion for creativity and growth. \nDon’t miss this opportunity to expand your network\, gain fresh perspectives\, and uncover opportunities that can take your brand to the next level.\nBook Now
URL:https://strategicbusinessconnect.com/event/sbc-media-tech-ai-exclusive-deep-dive-june/
LOCATION:Ciao Bella! Media One Hotel\, Media 1 Tower\, Dubai Media City\,Plot No. 1 - Al Sufouh - Al\, Sufouh 2 - Dubai\, United Arab Emirates
CATEGORIES:Networking Opportunities
ATTACH;FMTTYPE=image/jpeg:https://strategicbusinessconnect.com/wp-content/uploads/2025/03/sbc-media.jpg
END:VEVENT
END:VCALENDAR